BEGIN:VCALENDAR
VERSION:2.0
PRODID:-//South Texas Transition to Teaching - ECPv6.2.9//NONSGML v1.0//EN
CALSCALE:GREGORIAN
METHOD:PUBLISH
X-ORIGINAL-URL:https://southtexacp.com
X-WR-CALDESC:Events for South Texas Transition to Teaching
REFRESH-INTERVAL;VALUE=DURATION:PT1H
X-Robots-Tag:noindex
X-PUBLISHED-TTL:PT1H
BEGIN:VTIMEZONE
TZID:UTC
BEGIN:STANDARD
TZOFFSETFROM:+0000
TZOFFSETTO:+0000
TZNAME:UTC
DTSTART:20200101T000000
END:STANDARD
END:VTIMEZONE
BEGIN:VEVENT
DTSTART;VALUE=DATE:20200713
DTEND;VALUE=DATE:20200714
DTSTAMP:20260423T151920
CREATED:20200626T221202Z
LAST-MODIFIED:20200626T221202Z
UID:5449-1594598400-1594684799@southtexacp.com
SUMMARY:Math 4-8 from 6:00 p.m. - 9:00 p.m.
DESCRIPTION:Please contact our office for location and registration information.
URL:https://southtexacp.com/calendar/math-4-8-from-600-p-m-900-p-m/
LOCATION:South Texas Transition To Teaching ACP\, 2507 Buddy Owens\, McAllen\, TX\, 78504\, United States
CATEGORIES:South Texas ACP
END:VEVENT
BEGIN:VEVENT
DTSTART;VALUE=DATE:20200720
DTEND;VALUE=DATE:20200721
DTSTAMP:20260423T151920
CREATED:20200702T155317Z
LAST-MODIFIED:20200713T163417Z
UID:5543-1595203200-1595289599@southtexacp.com
SUMMARY:Special ED EC-12 (Content) from 5:00 p.m. - 9:00 p.m.
DESCRIPTION:Please contact our office for location and registration information.
URL:https://southtexacp.com/calendar/special-ed-ec-12-content-from-500-p-m-900-p-m-2/
LOCATION:South Texas Transition To Teaching ACP\, 2507 Buddy Owens\, McAllen\, TX\, 78504\, United States
CATEGORIES:South Texas ACP
END:VEVENT
BEGIN:VEVENT
DTSTART;VALUE=DATE:20200721
DTEND;VALUE=DATE:20200722
DTSTAMP:20260423T151920
CREATED:20200702T155408Z
LAST-MODIFIED:20200713T163349Z
UID:5545-1595289600-1595375999@southtexacp.com
SUMMARY:Special ED EC-12 (ELA) from 5:00 p.m. - 9:00 p.m.
DESCRIPTION:Please contact our office for location and registration information.
URL:https://southtexacp.com/calendar/special-ed-ec-12-ela-from-500-p-m-900-p-m/
LOCATION:South Texas Transition To Teaching ACP\, 2507 Buddy Owens\, McAllen\, TX\, 78504\, United States
CATEGORIES:South Texas ACP
END:VEVENT
END:VCALENDAR