BEGIN:VCALENDAR
VERSION:2.0
PRODID:-//South Texas Transition to Teaching - ECPv6.2.9//NONSGML v1.0//EN
CALSCALE:GREGORIAN
METHOD:PUBLISH
X-ORIGINAL-URL:https://southtexacp.com
X-WR-CALDESC:Events for South Texas Transition to Teaching
REFRESH-INTERVAL;VALUE=DURATION:PT1H
X-Robots-Tag:noindex
X-PUBLISHED-TTL:PT1H
BEGIN:VTIMEZONE
TZID:UTC
BEGIN:STANDARD
TZOFFSETFROM:+0000
TZOFFSETTO:+0000
TZNAME:UTC
DTSTART:20200101T000000
END:STANDARD
END:VTIMEZONE
BEGIN:VEVENT
DTSTART;VALUE=DATE:20200804
DTEND;VALUE=DATE:20200805
DTSTAMP:20260423T134941
CREATED:20200721T151947Z
LAST-MODIFIED:20200721T151947Z
UID:5715-1596499200-1596585599@southtexacp.com
SUMMARY:Core Subject EC-6 (ELA) from 5:00 p.m. - 9:00 p.m.
DESCRIPTION:Please contact our office for location and registration information.
URL:https://southtexacp.com/calendar/core-subject-ec-6-ela-from-500-p-m-900-p-m-3/
LOCATION:South Texas Transition To Teaching ACP\, 2507 Buddy Owens\, McAllen\, TX\, 78504\, United States
CATEGORIES:South Texas ACP
END:VEVENT
BEGIN:VEVENT
DTSTART;VALUE=DATE:20200805
DTEND;VALUE=DATE:20200806
DTSTAMP:20260423T134941
CREATED:20200721T152045Z
LAST-MODIFIED:20200722T193408Z
UID:5717-1596585600-1596671999@southtexacp.com
SUMMARY:Core Subject EC-6 (MATH) from 6:00 p.m. - 9:00 p.m.
DESCRIPTION:Please contact our office for location and registration information.
URL:https://southtexacp.com/calendar/core-subject-ec-6-math-from-500-p-m-900-p-m/
LOCATION:South Texas Transition To Teaching ACP\, 2507 Buddy Owens\, McAllen\, TX\, 78504\, United States
CATEGORIES:South Texas ACP
END:VEVENT
BEGIN:VEVENT
DTSTART;VALUE=DATE:20200806
DTEND;VALUE=DATE:20200807
DTSTAMP:20260423T134941
CREATED:20200721T152335Z
LAST-MODIFIED:20200721T152357Z
UID:5719-1596672000-1596758399@southtexacp.com
SUMMARY:Core Subject EC-6 (SCIENCE) from 5:00 p.m. - 9:00 p.m.
DESCRIPTION:Please contact our office for location and registration information.
URL:https://southtexacp.com/calendar/core-subject-ec-6-science-from-500-p-m-900-p-m-10/
LOCATION:South Texas Transition To Teaching ACP\, 2507 Buddy Owens\, McAllen\, TX\, 78504\, United States
CATEGORIES:South Texas ACP
END:VEVENT
BEGIN:VEVENT
DTSTART;VALUE=DATE:20200808
DTEND;VALUE=DATE:20200809
DTSTAMP:20260423T134941
CREATED:20200721T152503Z
LAST-MODIFIED:20200721T152503Z
UID:5721-1596844800-1596931199@southtexacp.com
SUMMARY:Core Subject EC-6 (SOCIAL STUDIES) from 8:30 a.m. - 1:00 p.m.
DESCRIPTION:Please contact our office for location and registration information.
URL:https://southtexacp.com/calendar/core-subject-ec-6-social-studies-from-830-a-m-100-p-m-3/
LOCATION:South Texas Transition To Teaching ACP\, 2507 Buddy Owens\, McAllen\, TX\, 78504\, United States
CATEGORIES:South Texas ACP
END:VEVENT
BEGIN:VEVENT
DTSTART;VALUE=DATE:20200818
DTEND;VALUE=DATE:20200819
DTSTAMP:20260423T134941
CREATED:20200804T202719Z
LAST-MODIFIED:20200804T202719Z
UID:5866-1597708800-1597795199@southtexacp.com
SUMMARY:Bilingual Supplemental from 5:30 p.m. - 8:30 p.m.
DESCRIPTION:Please contact our office for location and registration information
URL:https://southtexacp.com/calendar/bilingual-supplemental-from-530-p-m-830-p-m-10/
LOCATION:TX
CATEGORIES:South Texas ACP
END:VEVENT
BEGIN:VEVENT
DTSTART;VALUE=DATE:20200821
DTEND;VALUE=DATE:20200822
DTSTAMP:20260423T134941
CREATED:20200804T204407Z
LAST-MODIFIED:20200804T204407Z
UID:5868-1597968000-1598054399@southtexacp.com
SUMMARY:ESL Supplemental from 5:30 p.m. - 8:30 p.m.
DESCRIPTION:Please contact our office for location and registration information.
URL:https://southtexacp.com/calendar/esl-supplemental-from-530-p-m-830-p-m-9/
LOCATION:TX
CATEGORIES:South Texas ACP
END:VEVENT
BEGIN:VEVENT
DTSTART;VALUE=DATE:20200822
DTEND;VALUE=DATE:20200823
DTSTAMP:20260423T134941
CREATED:20200814T225330Z
LAST-MODIFIED:20200814T225330Z
UID:5966-1598054400-1598140799@southtexacp.com
SUMMARY:EC-6 (Social Studies ) from 8:30 a.m. - 12:30 p.m.
DESCRIPTION:Please contact our office for location and registration information.
URL:https://southtexacp.com/calendar/ec-6-social-studies-from-830-a-m-1230-p-m/
LOCATION:South Texas Transition To Teaching ACP\, 2507 Buddy Owens\, McAllen\, TX\, 78504\, United States
CATEGORIES:South Texas ACP
END:VEVENT
BEGIN:VEVENT
DTSTART;VALUE=DATE:20200824
DTEND;VALUE=DATE:20200825
DTSTAMP:20260423T134941
CREATED:20200814T225420Z
LAST-MODIFIED:20200814T225420Z
UID:5968-1598227200-1598313599@southtexacp.com
SUMMARY:EC-6 (ELA-R) from 5:00 p.m. - 9:00 p.m.
DESCRIPTION:Please contact our office for location and registration information.
URL:https://southtexacp.com/calendar/ec-6-ela-r-from-500-p-m-900-p-m/
LOCATION:South Texas Transition To Teaching ACP\, 2507 Buddy Owens\, McAllen\, TX\, 78504\, United States
CATEGORIES:South Texas ACP
END:VEVENT
BEGIN:VEVENT
DTSTART;VALUE=DATE:20200825
DTEND;VALUE=DATE:20200826
DTSTAMP:20260423T134941
CREATED:20200814T225515Z
LAST-MODIFIED:20200814T225515Z
UID:5970-1598313600-1598399999@southtexacp.com
SUMMARY:EC-6 (SCIENCE) from 5:00 p.m. - 9:00 p.m.
DESCRIPTION:Please contact our office for location and registration information.
URL:https://southtexacp.com/calendar/ec-6-science-from-500-p-m-900-p-m-3/
LOCATION:South Texas Transition To Teaching ACP\, 2507 Buddy Owens\, McAllen\, TX\, 78504\, United States
CATEGORIES:South Texas ACP
END:VEVENT
BEGIN:VEVENT
DTSTART;VALUE=DATE:20200826
DTEND;VALUE=DATE:20200827
DTSTAMP:20260423T134941
CREATED:20200814T225616Z
LAST-MODIFIED:20200814T225616Z
UID:5972-1598400000-1598486399@southtexacp.com
SUMMARY:EC-6 (Math) from 6:00 p.m. - 9:00 p.m.
DESCRIPTION:Please contact our office for location and registration information.
URL:https://southtexacp.com/calendar/ec-6-math-from-600-p-m-900-p-m-3/
LOCATION:South Texas Transition To Teaching ACP\, 2507 Buddy Owens\, McAllen\, TX\, 78504\, United States
CATEGORIES:South Texas ACP
END:VEVENT
BEGIN:VEVENT
DTSTART;VALUE=DATE:20200829
DTEND;VALUE=DATE:20200830
DTSTAMP:20260423T134941
CREATED:20200828T220620Z
LAST-MODIFIED:20200828T220620Z
UID:6121-1598659200-1598745599@southtexacp.com
SUMMARY:Social Stuides 4-8 from 8:30 a.m. - 12:30 p.m.
DESCRIPTION:Please contact our office for location and registration information.
URL:https://southtexacp.com/calendar/social-stuides-4-8-from-830-a-m-1230-p-m/
LOCATION:South Texas Transition To Teaching ACP\, 2507 Buddy Owens\, McAllen\, TX\, 78504\, United States
CATEGORIES:South Texas ACP
END:VEVENT
BEGIN:VEVENT
DTSTART;VALUE=DATE:20200829
DTEND;VALUE=DATE:20200830
DTSTAMP:20260423T134941
CREATED:20200828T220712Z
LAST-MODIFIED:20200828T220712Z
UID:6123-1598659200-1598745599@southtexacp.com
SUMMARY:ELA-R 4-8 from 1:30 p.m. - 5:00 p.m.
DESCRIPTION:Please contact our office for location and registration information
URL:https://southtexacp.com/calendar/ela-r-4-8-from-130-p-m-500-p-m/
LOCATION:South Texas Transition To Teaching ACP\, 2507 Buddy Owens\, McAllen\, TX\, 78504\, United States
CATEGORIES:South Texas ACP
END:VEVENT
END:VCALENDAR