BEGIN:VCALENDAR
VERSION:2.0
PRODID:-//South Texas Transition to Teaching - ECPv6.2.9//NONSGML v1.0//EN
CALSCALE:GREGORIAN
METHOD:PUBLISH
X-ORIGINAL-URL:https://southtexacp.com
X-WR-CALDESC:Events for South Texas Transition to Teaching
REFRESH-INTERVAL;VALUE=DURATION:PT1H
X-Robots-Tag:noindex
X-PUBLISHED-TTL:PT1H
BEGIN:VTIMEZONE
TZID:UTC
BEGIN:STANDARD
TZOFFSETFROM:+0000
TZOFFSETTO:+0000
TZNAME:UTC
DTSTART:20200101T000000
END:STANDARD
END:VTIMEZONE
BEGIN:VEVENT
DTSTART;VALUE=DATE:20201020
DTEND;VALUE=DATE:20201021
DTSTAMP:20260423T102013
CREATED:20201020T141600Z
LAST-MODIFIED:20201020T141600Z
UID:6399-1603152000-1603238399@southtexacp.com
SUMMARY:ELA-R 4-8 from 5:00 p.m. - 9:00 p.m
DESCRIPTION:Please contact our office for location and registration information.
URL:https://southtexacp.com/calendar/ela-r-4-8-from-500-p-m-900-p-m-4/
LOCATION:South Texas Transition To Teaching ACP\, 2507 Buddy Owens\, McAllen\, TX\, 78504\, United States
CATEGORIES:South Texas ACP
END:VEVENT
BEGIN:VEVENT
DTSTART;VALUE=DATE:20201021
DTEND;VALUE=DATE:20201022
DTSTAMP:20260423T102013
CREATED:20201020T141711Z
LAST-MODIFIED:20201020T141711Z
UID:6401-1603238400-1603324799@southtexacp.com
SUMMARY:Social Studies 4-8 (PART 1) from 5:00 p.m. - 8:00 p.m.
DESCRIPTION:Please contact our office for location and registration information.
URL:https://southtexacp.com/calendar/social-studies-4-8-part-1-from-500-p-m-800-p-m/
LOCATION:South Texas Transition To Teaching ACP\, 2507 Buddy Owens\, McAllen\, TX\, 78504\, United States
CATEGORIES:South Texas ACP
END:VEVENT
BEGIN:VEVENT
DTSTART;VALUE=DATE:20201022
DTEND;VALUE=DATE:20201023
DTSTAMP:20260423T102013
CREATED:20201020T141809Z
LAST-MODIFIED:20201020T141809Z
UID:6404-1603324800-1603411199@southtexacp.com
SUMMARY:Social Studies 4-8 (PART 2) from 5:00 p.m. - 8:00 p.m.
DESCRIPTION:Please contact our office for location and registration information
URL:https://southtexacp.com/calendar/social-studies-4-8-part-2-from-500-p-m-800-p-m/
LOCATION:South Texas Transition To Teaching ACP\, 2507 Buddy Owens\, McAllen\, TX\, 78504\, United States
CATEGORIES:South Texas ACP
END:VEVENT
BEGIN:VEVENT
DTSTART;VALUE=DATE:20201026
DTEND;VALUE=DATE:20201027
DTSTAMP:20260423T102013
CREATED:20201020T224714Z
LAST-MODIFIED:20201020T224714Z
UID:6419-1603670400-1603756799@southtexacp.com
SUMMARY:Core Subject EC-6 (ELA) from 5:00 p.m. - 9:00 p.m.
DESCRIPTION:Please contact our office for location and registration information.
URL:https://southtexacp.com/calendar/core-subject-ec-6-ela-from-500-p-m-900-p-m-4/
LOCATION:South Texas Transition To Teaching ACP\, 2507 Buddy Owens\, McAllen\, TX\, 78504\, United States
CATEGORIES:South Texas ACP
END:VEVENT
BEGIN:VEVENT
DTSTART;VALUE=DATE:20201027
DTEND;VALUE=DATE:20201028
DTSTAMP:20260423T102013
CREATED:20201020T224806Z
LAST-MODIFIED:20201020T224806Z
UID:6421-1603756800-1603843199@southtexacp.com
SUMMARY:Core Subject EC-6 (SCI) from 5:00 p.m. - 9:00 p.m.
DESCRIPTION:Please contact our office for location and registration information.
URL:https://southtexacp.com/calendar/core-subject-ec-6-sci-from-500-p-m-900-p-m-2/
LOCATION:South Texas Transition To Teaching ACP\, 2507 Buddy Owens\, McAllen\, TX\, 78504\, United States
CATEGORIES:South Texas ACP
END:VEVENT
BEGIN:VEVENT
DTSTART;VALUE=DATE:20201028
DTEND;VALUE=DATE:20201029
DTSTAMP:20260423T102013
CREATED:20201020T141909Z
LAST-MODIFIED:20201020T141909Z
UID:6406-1603843200-1603929599@southtexacp.com
SUMMARY:BTLPT from 5:30 p.m. - 8:30 p.m.
DESCRIPTION:Please contact our office for location and registration information
URL:https://southtexacp.com/calendar/btlpt-from-530-p-m-830-p-m-10/
LOCATION:South Texas Transition To Teaching ACP\, 2507 Buddy Owens\, McAllen\, TX\, 78504\, United States
CATEGORIES:South Texas ACP
END:VEVENT
BEGIN:VEVENT
DTSTART;VALUE=DATE:20201028
DTEND;VALUE=DATE:20201029
DTSTAMP:20260423T102013
CREATED:20201020T224913Z
LAST-MODIFIED:20201020T224913Z
UID:6423-1603843200-1603929599@southtexacp.com
SUMMARY:Core Subject EC-6 (SOCIAL STUDIES) from 5:00 p.m. - 9:00 p.m.
DESCRIPTION:Please contact our office for location and registration information.
URL:https://southtexacp.com/calendar/core-subject-ec-6-social-studies-from-500-p-m-900-p-m-2/
LOCATION:South Texas Transition To Teaching ACP\, 2507 Buddy Owens\, McAllen\, TX\, 78504\, United States
CATEGORIES:South Texas ACP
END:VEVENT
BEGIN:VEVENT
DTSTART;VALUE=DATE:20201029
DTEND;VALUE=DATE:20201030
DTSTAMP:20260423T102013
CREATED:20201020T225028Z
LAST-MODIFIED:20201020T225028Z
UID:6425-1603929600-1604015999@southtexacp.com
SUMMARY:Core Subject EC-6 (MATH) from 6:00 p.m. - 9:00 p.m.
DESCRIPTION:Please contact our office for location and registration information.
URL:https://southtexacp.com/calendar/core-subject-ec-6-math-from-600-p-m-900-p-m-10/
LOCATION:South Texas Transition To Teaching ACP\, 2507 Buddy Owens\, McAllen\, TX\, 78504\, United States
CATEGORIES:South Texas ACP
END:VEVENT
END:VCALENDAR