BEGIN:VCALENDAR
VERSION:2.0
PRODID:-//South Texas Transition to Teaching - ECPv6.2.9//NONSGML v1.0//EN
CALSCALE:GREGORIAN
METHOD:PUBLISH
X-WR-CALNAME:South Texas Transition to Teaching
X-ORIGINAL-URL:https://southtexacp.com
X-WR-CALDESC:Events for South Texas Transition to Teaching
REFRESH-INTERVAL;VALUE=DURATION:PT1H
X-Robots-Tag:noindex
X-PUBLISHED-TTL:PT1H
BEGIN:VTIMEZONE
TZID:UTC
BEGIN:STANDARD
TZOFFSETFROM:+0000
TZOFFSETTO:+0000
TZNAME:UTC
DTSTART:20200101T000000
END:STANDARD
END:VTIMEZONE
BEGIN:VEVENT
DTSTART;VALUE=DATE:20201102
DTEND;VALUE=DATE:20201103
DTSTAMP:20260423T083342
CREATED:20201028T163930Z
LAST-MODIFIED:20201028T163930Z
UID:6502-1604275200-1604361599@southtexacp.com
SUMMARY:BTLPT from 5:30 p.m. - 8:30 p.m.
DESCRIPTION:Please contact our office for location and registration information.
URL:https://southtexacp.com/calendar/btlpt-from-530-p-m-830-p-m-11/
LOCATION:South Texas Transition To Teaching ACP\, 2507 Buddy Owens\, McAllen\, TX\, 78504\, United States
CATEGORIES:South Texas ACP
END:VEVENT
BEGIN:VEVENT
DTSTART;VALUE=DATE:20201104
DTEND;VALUE=DATE:20201105
DTSTAMP:20260423T083342
CREATED:20201028T165353Z
LAST-MODIFIED:20201028T165353Z
UID:6504-1604448000-1604534399@southtexacp.com
SUMMARY:BTLPT from 5:30 p.m. - 8:30 p.m.
DESCRIPTION:Please contact our office for location and registration information.
URL:https://southtexacp.com/calendar/btlpt-from-530-p-m-830-p-m-12/
LOCATION:South Texas Transition To Teaching ACP\, 2507 Buddy Owens\, McAllen\, TX\, 78504\, United States
CATEGORIES:South Texas ACP
END:VEVENT
BEGIN:VEVENT
DTSTART;VALUE=DATE:20201107
DTEND;VALUE=DATE:20201108
DTSTAMP:20260423T083342
CREATED:20201028T163842Z
LAST-MODIFIED:20201028T163842Z
UID:6500-1604707200-1604793599@southtexacp.com
SUMMARY:PPR EC-12 from 8:30 a.m. - 4:30 p.m.
DESCRIPTION:Please contact our office for location and registration information.
URL:https://southtexacp.com/calendar/ppr-ec-12-from-830-a-m-430-p-m-2/
LOCATION:South Texas Transition To Teaching ACP\, 2507 Buddy Owens\, McAllen\, TX\, 78504\, United States
CATEGORIES:South Texas ACP
END:VEVENT
BEGIN:VEVENT
DTSTART;VALUE=DATE:20201116
DTEND;VALUE=DATE:20201117
DTSTAMP:20260423T083342
CREATED:20201111T174027Z
LAST-MODIFIED:20201111T174027Z
UID:6622-1605484800-1605571199@southtexacp.com
SUMMARY:Special ED Ec-12 (ELA-R) from 5:00 p.m. - 9:00 p.m.
DESCRIPTION:Please contact our office for location and registration information.
URL:https://southtexacp.com/calendar/special-ed-ec-12-ela-r-from-500-p-m-900-p-m/
LOCATION:South Texas Transition To Teaching ACP\, 2507 Buddy Owens\, McAllen\, TX\, 78504\, United States
CATEGORIES:South Texas ACP
END:VEVENT
BEGIN:VEVENT
DTSTART;VALUE=DATE:20201117
DTEND;VALUE=DATE:20201118
DTSTAMP:20260423T083342
CREATED:20201111T174122Z
LAST-MODIFIED:20201111T174122Z
UID:6624-1605571200-1605657599@southtexacp.com
SUMMARY:Special ED EC-12 (CONTENT) from 5:00 p.m. - 9:00 p.m.
DESCRIPTION:Please contact our office for location and registration information.
URL:https://southtexacp.com/calendar/special-ed-ec-12-content-from-500-p-m-900-p-m-3/
LOCATION:South Texas Transition To Teaching ACP\, 2507 Buddy Owens\, McAllen\, TX\, 78504\, United States
CATEGORIES:South Texas ACP
END:VEVENT
END:VCALENDAR