BEGIN:VCALENDAR
VERSION:2.0
PRODID:-//South Texas Transition to Teaching - ECPv6.2.9//NONSGML v1.0//EN
CALSCALE:GREGORIAN
METHOD:PUBLISH
X-WR-CALNAME:South Texas Transition to Teaching
X-ORIGINAL-URL:https://southtexacp.com
X-WR-CALDESC:Events for South Texas Transition to Teaching
REFRESH-INTERVAL;VALUE=DURATION:PT1H
X-Robots-Tag:noindex
X-PUBLISHED-TTL:PT1H
BEGIN:VTIMEZONE
TZID:UTC
BEGIN:STANDARD
TZOFFSETFROM:+0000
TZOFFSETTO:+0000
TZNAME:UTC
DTSTART:20240101T000000
END:STANDARD
END:VTIMEZONE
BEGIN:VEVENT
DTSTART;TZID=UTC:20240413T090000
DTEND;TZID=UTC:20240413T140000
DTSTAMP:20260422T035811
CREATED:20240410T214421Z
LAST-MODIFIED:20240410T214421Z
UID:12716-1712998800-1713016800@southtexacp.com
SUMMARY:PPR EC-12 Preparation Class
DESCRIPTION:Please contact your assigned program specialist for registration information
URL:https://southtexacp.com/calendar/ppr-ec-12-preparation-class/
LOCATION:TX
CATEGORIES:South Texas ACP
END:VEVENT
BEGIN:VEVENT
DTSTART;VALUE=DATE:20240427
DTEND;VALUE=DATE:20240428
DTSTAMP:20260422T035811
CREATED:20240416T144212Z
LAST-MODIFIED:20240416T144238Z
UID:12725-1714176000-1714262399@southtexacp.com
SUMMARY:SPED Class from 9:00 a.m. - 2:00 p.m. CST
DESCRIPTION:Please contact our office for location and registration information.
URL:https://southtexacp.com/calendar/sped-class-from-900-a-m-200-p-m-cst/
LOCATION:South Texas Transition To Teaching ACP\, 2507 Buddy Owens\, McAllen\, TX\, 78504\, United States
CATEGORIES:South Texas ACP
END:VEVENT
END:VCALENDAR