BEGIN:VCALENDAR
VERSION:2.0
PRODID:-//South Texas Transition to Teaching - ECPv6.2.9//NONSGML v1.0//EN
CALSCALE:GREGORIAN
METHOD:PUBLISH
X-ORIGINAL-URL:https://southtexacp.com
X-WR-CALDESC:Events for South Texas Transition to Teaching
REFRESH-INTERVAL;VALUE=DURATION:PT1H
X-Robots-Tag:noindex
X-PUBLISHED-TTL:PT1H
BEGIN:VTIMEZONE
TZID:UTC
BEGIN:STANDARD
TZOFFSETFROM:+0000
TZOFFSETTO:+0000
TZNAME:UTC
DTSTART:20240101T000000
END:STANDARD
END:VTIMEZONE
BEGIN:VEVENT
DTSTART;VALUE=DATE:20240506
DTEND;VALUE=DATE:20240507
DTSTAMP:20260422T022816
CREATED:20240424T193554Z
LAST-MODIFIED:20240424T193554Z
UID:12739-1714953600-1715039999@southtexacp.com
SUMMARY:STR Prep Class from 5:30 - 8:30 p.m. CST.
DESCRIPTION:Please contact our office for location and registration information.
URL:https://southtexacp.com/calendar/str-prep-class-from-530-830-p-m-cst-3/
LOCATION:South Texas Transition To Teaching ACP\, 2507 Buddy Owens\, McAllen\, TX\, 78504\, United States
CATEGORIES:South Texas ACP
END:VEVENT
BEGIN:VEVENT
DTSTART;VALUE=DATE:20240510
DTEND;VALUE=DATE:20240511
DTSTAMP:20260422T022816
CREATED:20240426T174307Z
LAST-MODIFIED:20240426T174307Z
UID:12743-1715299200-1715385599@southtexacp.com
SUMMARY:BTLPT
DESCRIPTION:Please contact our office for location and registration information.
URL:https://southtexacp.com/calendar/btlpt-2/
LOCATION:South Texas Transition To Teaching ACP\, 2507 Buddy Owens\, McAllen\, TX\, 78504\, United States
CATEGORIES:South Texas ACP
END:VEVENT
BEGIN:VEVENT
DTSTART;VALUE=DATE:20240511
DTEND;VALUE=DATE:20240512
DTSTAMP:20260422T022816
CREATED:20240502T211053Z
LAST-MODIFIED:20240502T211053Z
UID:12748-1715385600-1715471999@southtexacp.com
SUMMARY:PPR EC-12 Prep Class from 9:00 a.m. - 3:00 p.m. CST
DESCRIPTION:Please contact our office for location and registration information.
URL:https://southtexacp.com/calendar/ppr-ec-12-prep-class-from-900-a-m-300-p-m-cst/
LOCATION:South Texas Transition To Teaching ACP\, 2507 Buddy Owens\, McAllen\, TX\, 78504\, United States
CATEGORIES:South Texas ACP
END:VEVENT
BEGIN:VEVENT
DTSTART;VALUE=DATE:20240514
DTEND;VALUE=DATE:20240515
DTSTAMP:20260422T022816
CREATED:20240503T221316Z
LAST-MODIFIED:20240503T221316Z
UID:12752-1715644800-1715731199@southtexacp.com
SUMMARY:EC-6 ( ELA-R) from 5:30 - 9:00 p.m. CST.
DESCRIPTION:Please contact our office for location and registration information
URL:https://southtexacp.com/calendar/ec-6-ela-r-from-530-900-p-m-cst/
LOCATION:South Texas Transition To Teaching ACP\, 2507 Buddy Owens\, McAllen\, TX\, 78504\, United States
CATEGORIES:South Texas ACP
END:VEVENT
BEGIN:VEVENT
DTSTART;VALUE=DATE:20240515
DTEND;VALUE=DATE:20240516
DTSTAMP:20260422T022816
CREATED:20240503T222711Z
LAST-MODIFIED:20240503T222711Z
UID:12754-1715731200-1715817599@southtexacp.com
SUMMARY:EC-6 ( Electives) Virtual class from 5:30 - 9:00 p.m.CST.
DESCRIPTION:Please contact our office for location and registration information.
URL:https://southtexacp.com/calendar/ec-6-electives-virtual-class-from-530-900-p-m-cst/
LOCATION:South Texas Transition To Teaching ACP\, 2507 Buddy Owens\, McAllen\, TX\, 78504\, United States
CATEGORIES:South Texas ACP
END:VEVENT
BEGIN:VEVENT
DTSTART;VALUE=DATE:20240516
DTEND;VALUE=DATE:20240517
DTSTAMP:20260422T022816
CREATED:20240503T222809Z
LAST-MODIFIED:20240503T222809Z
UID:12756-1715817600-1715903999@southtexacp.com
SUMMARY:EC-6 ( Science) from 5:30 - 9:00 p.m. CST
DESCRIPTION:Please contact our office for location and registration information
URL:https://southtexacp.com/calendar/ec-6-science-from-530-900-p-m-cst/
LOCATION:South Texas Transition To Teaching ACP\, 2507 Buddy Owens\, McAllen\, TX\, 78504\, United States
CATEGORIES:South Texas ACP
END:VEVENT
BEGIN:VEVENT
DTSTART;VALUE=DATE:20240517
DTEND;VALUE=DATE:20240518
DTSTAMP:20260422T022816
CREATED:20240503T222918Z
LAST-MODIFIED:20240503T222918Z
UID:12758-1715904000-1715990399@southtexacp.com
SUMMARY:EC-6 (Math) from  6:00 - 9:00 p.m. CST
DESCRIPTION:Please contact our office for location and registration information
URL:https://southtexacp.com/calendar/ec-6-math-from-600-900-p-m-cst-3/
LOCATION:South Texas Transition To Teaching ACP\, 2507 Buddy Owens\, McAllen\, TX\, 78504\, United States
CATEGORIES:South Texas ACP
END:VEVENT
BEGIN:VEVENT
DTSTART;VALUE=DATE:20240518
DTEND;VALUE=DATE:20240519
DTSTAMP:20260422T022816
CREATED:20240503T223027Z
LAST-MODIFIED:20240503T223027Z
UID:12760-1715990400-1716076799@southtexacp.com
SUMMARY:EC-6 ( Social Studies) from 9:00 a.m. - 3:00 p.m. CST
DESCRIPTION:Please contact our office for location and registration information
URL:https://southtexacp.com/calendar/ec-6-social-studies-from-900-a-m-300-p-m-cst-2/
LOCATION:South Texas Transition To Teaching ACP\, 2507 Buddy Owens\, McAllen\, TX\, 78504\, United States
CATEGORIES:South Texas ACP
END:VEVENT
BEGIN:VEVENT
DTSTART;VALUE=DATE:20240521
DTEND;VALUE=DATE:20240522
DTSTAMP:20260422T022816
CREATED:20240508T193158Z
LAST-MODIFIED:20240508T193158Z
UID:12770-1716249600-1716335999@southtexacp.com
SUMMARY:Bilingual Supplemental from 5:30 - 8:30 p.m CST.
DESCRIPTION:Please contact our office for location and registration information.
URL:https://southtexacp.com/calendar/bilingual-supplemental-from-530-830-p-m-cst-3/
LOCATION:South Texas Transition To Teaching ACP\, 2507 Buddy Owens\, McAllen\, TX\, 78504\, United States
CATEGORIES:South Texas ACP
END:VEVENT
BEGIN:VEVENT
DTSTART;VALUE=DATE:20240525
DTEND;VALUE=DATE:20240526
DTSTAMP:20260422T022816
CREATED:20240516T203014Z
LAST-MODIFIED:20240516T203014Z
UID:12786-1716595200-1716681599@southtexacp.com
SUMMARY:SPED EC-12 from 9:00 a.m. - 2:00 p.m. CST
DESCRIPTION:Please contact us for location and registration information.
URL:https://southtexacp.com/calendar/sped-ec-12-from-900-a-m-200-p-m-cst/
LOCATION:South Texas Transition To Teaching ACP\, 2507 Buddy Owens\, McAllen\, TX\, 78504\, United States
CATEGORIES:South Texas ACP
END:VEVENT
END:VCALENDAR