BEGIN:VCALENDAR
VERSION:2.0
PRODID:-//South Texas Transition to Teaching - ECPv6.2.9//NONSGML v1.0//EN
CALSCALE:GREGORIAN
METHOD:PUBLISH
X-WR-CALNAME:South Texas Transition to Teaching
X-ORIGINAL-URL:https://southtexacp.com
X-WR-CALDESC:Events for South Texas Transition to Teaching
REFRESH-INTERVAL;VALUE=DURATION:PT1H
X-Robots-Tag:noindex
X-PUBLISHED-TTL:PT1H
BEGIN:VTIMEZONE
TZID:UTC
BEGIN:STANDARD
TZOFFSETFROM:+0000
TZOFFSETTO:+0000
TZNAME:UTC
DTSTART:20190101T000000
END:STANDARD
END:VTIMEZONE
BEGIN:VEVENT
DTSTART;VALUE=DATE:20190925
DTEND;VALUE=DATE:20190926
DTSTAMP:20260424T172303
CREATED:20190923T211347Z
LAST-MODIFIED:20190923T211347Z
UID:4156-1569369600-1569455999@southtexacp.com
SUMMARY:Office open late for Benchmarking Only!!! from 6:00 p.m. - 8:00 p.m.
DESCRIPTION:Must arrive before 7:00 p.m. Please contact our office to confirm your attendance.
URL:https://southtexacp.com/calendar/office-open-late-for-benchmarking-only-from-600-p-m-800-p-m-2/
LOCATION:South Texas Transition To Teaching ACP\, 2507 Buddy Owens\, McAllen\, TX\, 78504\, United States
CATEGORIES:South Texas ACP
END:VEVENT
END:VCALENDAR