BEGIN:VCALENDAR
VERSION:2.0
PRODID:-//South Texas Transition to Teaching - ECPv6.2.9//NONSGML v1.0//EN
CALSCALE:GREGORIAN
METHOD:PUBLISH
X-ORIGINAL-URL:https://southtexacp.com
X-WR-CALDESC:Events for South Texas Transition to Teaching
REFRESH-INTERVAL;VALUE=DURATION:PT1H
X-Robots-Tag:noindex
X-PUBLISHED-TTL:PT1H
BEGIN:VTIMEZONE
TZID:UTC
BEGIN:STANDARD
TZOFFSETFROM:+0000
TZOFFSETTO:+0000
TZNAME:UTC
DTSTART:20200101T000000
END:STANDARD
END:VTIMEZONE
BEGIN:VEVENT
DTSTART;VALUE=DATE:20200312
DTEND;VALUE=DATE:20200313
DTSTAMP:20260423T233353
CREATED:20200217T181542Z
LAST-MODIFIED:20200225T234509Z
UID:4678-1583971200-1584057599@southtexacp.com
SUMMARY:Core Subject EC-6 (MATH) from 6:00 p.m. - 9:00 p.m.
DESCRIPTION:Please contact our office for location and registration information.
URL:https://southtexacp.com/calendar/core-subject-ec-6-math-from-600-p-m-900-p-m-8/
LOCATION:South Texas Transition To Teaching ACP\, 2507 Buddy Owens\, McAllen\, TX\, 78504\, United States
CATEGORIES:South Texas ACP
END:VEVENT
BEGIN:VEVENT
DTSTART;VALUE=DATE:20200312
DTEND;VALUE=DATE:20200313
DTSTAMP:20260423T233353
CREATED:20200312T162141Z
LAST-MODIFIED:20200312T163435Z
UID:4845-1583971200-1584057599@southtexacp.com
SUMMARY:ED 101 live-chat Discussion Forum Part 1
DESCRIPTION:Follow the steps on how to participate in this forum by clicking HERE  \nThis will be 50% of your credit. The time this forum will be open is 9 am today -9 am tomorrow
URL:https://southtexacp.com/calendar/ed-101-discussion-forum-part-1/
LOCATION:TX
CATEGORIES:South Texas ACP
END:VEVENT
END:VCALENDAR