BEGIN:VCALENDAR
VERSION:2.0
PRODID:-//South Texas Transition to Teaching - ECPv6.2.9//NONSGML v1.0//EN
CALSCALE:GREGORIAN
METHOD:PUBLISH
X-WR-CALNAME:South Texas Transition to Teaching
X-ORIGINAL-URL:https://southtexacp.com
X-WR-CALDESC:Events for South Texas Transition to Teaching
REFRESH-INTERVAL;VALUE=DURATION:PT1H
X-Robots-Tag:noindex
X-PUBLISHED-TTL:PT1H
BEGIN:VTIMEZONE
TZID:UTC
BEGIN:STANDARD
TZOFFSETFROM:+0000
TZOFFSETTO:+0000
TZNAME:UTC
DTSTART:20240101T000000
END:STANDARD
END:VTIMEZONE
BEGIN:VEVENT
DTSTART;VALUE=DATE:20240709
DTEND;VALUE=DATE:20240710
DTSTAMP:20260422T004528
CREATED:20240702T224955Z
LAST-MODIFIED:20240702T224955Z
UID:12875-1720483200-1720569599@southtexacp.com
SUMMARY:EC-6 ( SS) from 8:30 a.m. - 4:00 p.m. CST.
DESCRIPTION:Please contact our office for location and registration information
URL:https://southtexacp.com/calendar/ec-6-ss-from-830-a-m-400-p-m-cst/
LOCATION:South Texas Transition To Teaching ACP\, 2507 Buddy Owens\, McAllen\, TX\, 78504\, United States
CATEGORIES:South Texas ACP
END:VEVENT
BEGIN:VEVENT
DTSTART;VALUE=DATE:20240709
DTEND;VALUE=DATE:20240710
DTSTAMP:20260422T004528
CREATED:20240702T202055Z
LAST-MODIFIED:20240702T225439Z
UID:12873-1720483200-1720569599@southtexacp.com
SUMMARY:BTLPT from 5:30 - 8:30 p.m. CST..
DESCRIPTION:Please contact our office for location and registration information
URL:https://southtexacp.com/calendar/btlpt-from-530-830-p-m-cst-2/
LOCATION:South Texas Transition To Teaching ACP\, 2507 Buddy Owens\, McAllen\, TX\, 78504\, United States
CATEGORIES:South Texas ACP
END:VEVENT
END:VCALENDAR