BEGIN:VCALENDAR
VERSION:2.0
PRODID:-//South Texas Transition to Teaching - ECPv6.2.9//NONSGML v1.0//EN
CALSCALE:GREGORIAN
METHOD:PUBLISH
X-ORIGINAL-URL:https://southtexacp.com
X-WR-CALDESC:Events for South Texas Transition to Teaching
REFRESH-INTERVAL;VALUE=DURATION:PT1H
X-Robots-Tag:noindex
X-PUBLISHED-TTL:PT1H
BEGIN:VTIMEZONE
TZID:UTC
BEGIN:STANDARD
TZOFFSETFROM:+0000
TZOFFSETTO:+0000
TZNAME:UTC
DTSTART:20220101T000000
END:STANDARD
END:VTIMEZONE
BEGIN:VEVENT
DTSTART;VALUE=DATE:20220615
DTEND;VALUE=DATE:20220616
DTSTAMP:20260424T090734
CREATED:20220606T202249Z
LAST-MODIFIED:20220606T202249Z
UID:10385-1655251200-1655337599@southtexacp.com
SUMMARY:ESL Supplemental Class from 5:30 p.m. - 8:30 p.m.
DESCRIPTION:Please contact our office for location and registration information.
URL:https://southtexacp.com/calendar/esl-supplemental-class-from-530-p-m-830-p-m/
LOCATION:South Texas Transition To Teaching ACP\, 2507 Buddy Owens\, McAllen\, TX\, 78504\, United States
CATEGORIES:South Texas ACP
END:VEVENT
BEGIN:VEVENT
DTSTART;VALUE=DATE:20220510
DTEND;VALUE=DATE:20220511
DTSTAMP:20260424T090734
CREATED:20220414T194501Z
LAST-MODIFIED:20220425T215624Z
UID:10073-1652140800-1652227199@southtexacp.com
SUMMARY:Core Subject EC-6 (Science Part 2) from 5:00 p.m. - 8:00 p.m.
DESCRIPTION:Please contact our office for location and registration information
URL:https://southtexacp.com/calendar/core-subject-ec-6-science-part-2-from-500-p-m-800-p-m/
LOCATION:South Texas Transition To Teaching ACP\, 2507 Buddy Owens\, McAllen\, TX\, 78504\, United States
CATEGORIES:South Texas ACP
END:VEVENT
BEGIN:VEVENT
DTSTART;VALUE=DATE:20220509
DTEND;VALUE=DATE:20220510
DTSTAMP:20260424T090734
CREATED:20220414T194355Z
LAST-MODIFIED:20220425T214749Z
UID:10071-1652054400-1652140799@southtexacp.com
SUMMARY:Core Subject EC-6 (Science Part 1) from 5:00 p.m. - 8:00 p.m.
DESCRIPTION:Please contact our office for location and registration information
URL:https://southtexacp.com/calendar/core-subject-ec-6-science-part-1-from-500-p-m-800-p-m/
LOCATION:South Texas Transition To Teaching ACP\, 2507 Buddy Owens\, McAllen\, TX\, 78504\, United States
CATEGORIES:South Texas ACP
END:VEVENT
BEGIN:VEVENT
DTSTART;VALUE=DATE:20220507
DTEND;VALUE=DATE:20220508
DTSTAMP:20260424T090734
CREATED:20220414T194903Z
LAST-MODIFIED:20220506T221037Z
UID:10081-1651881600-1651967999@southtexacp.com
SUMMARY:Core Subject EC-6 (ELA-R)  from 8:30 a.m. - 1:00 p.m.
DESCRIPTION:Please contact our office for location and registration information.
URL:https://southtexacp.com/calendar/core-subject-ec-6-ela-r-from-600-p-m-900-p-m/
LOCATION:South Texas Transition To Teaching ACP\, 2507 Buddy Owens\, McAllen\, TX\, 78504\, United States
CATEGORIES:South Texas ACP
END:VEVENT
BEGIN:VEVENT
DTSTART;VALUE=DATE:20220506
DTEND;VALUE=DATE:20220507
DTSTAMP:20260424T090734
CREATED:20220414T194757Z
LAST-MODIFIED:20220414T194757Z
UID:10079-1651795200-1651881599@southtexacp.com
SUMMARY:Core Subject EC-6 (Math) from 6:00 p.m. - 9:00 p.m.
DESCRIPTION:Please contact our office for location and registration information
URL:https://southtexacp.com/calendar/core-subject-ec-6-math-from-600-p-m-900-p-m-12/
LOCATION:South Texas Transition To Teaching ACP\, 2507 Buddy Owens\, McAllen\, TX\, 78504\, United States
CATEGORIES:South Texas ACP
END:VEVENT
BEGIN:VEVENT
DTSTART;VALUE=DATE:20220505
DTEND;VALUE=DATE:20220506
DTSTAMP:20260424T090734
CREATED:20220414T194658Z
LAST-MODIFIED:20220425T214711Z
UID:10077-1651708800-1651795199@southtexacp.com
SUMMARY:Core Subject EC-6 (Social Studies Part 2) from 5:00 p.m. - 8:00 p.m.
DESCRIPTION:Please contact our office for location and registration information
URL:https://southtexacp.com/calendar/core-subject-ec-6-social-studies-part-2-from-500-p-m-800-p-m-2/
LOCATION:South Texas Transition To Teaching ACP\, 2507 Buddy Owens\, McAllen\, TX\, 78504\, United States
CATEGORIES:South Texas ACP
END:VEVENT
BEGIN:VEVENT
DTSTART;VALUE=DATE:20220504
DTEND;VALUE=DATE:20220505
DTSTAMP:20260424T090734
CREATED:20220414T194558Z
LAST-MODIFIED:20220414T194558Z
UID:10075-1651622400-1651708799@southtexacp.com
SUMMARY:Core Subject EC-6 ( Social Studies Part 1) from 5:00 p.m. - 8:00 p.m.
DESCRIPTION:Please contact our office for location and registration information
URL:https://southtexacp.com/calendar/core-subject-ec-6-social-studies-part-1-from-500-p-m-800-p-m-2/
LOCATION:South Texas Transition To Teaching ACP\, 2507 Buddy Owens\, McAllen\, TX\, 78504\, United States
CATEGORIES:South Texas ACP
END:VEVENT
BEGIN:VEVENT
DTSTART;VALUE=DATE:20220423
DTEND;VALUE=DATE:20220424
DTSTAMP:20260424T090734
CREATED:20220411T211122Z
LAST-MODIFIED:20220411T211122Z
UID:10016-1650672000-1650758399@southtexacp.com
SUMMARY:SPED EC-12 from 8:30 a.m. - 1:30 p.m.
DESCRIPTION:Please contact our office for location and registration information.
URL:https://southtexacp.com/calendar/sped-ec-12-from-830-a-m-130-p-m/
LOCATION:South Texas Transition To Teaching ACP\, 2507 Buddy Owens\, McAllen\, TX\, 78504\, United States
CATEGORIES:South Texas ACP
END:VEVENT
BEGIN:VEVENT
DTSTART;VALUE=DATE:20220421
DTEND;VALUE=DATE:20220422
DTSTAMP:20260424T090734
CREATED:20220407T165341Z
LAST-MODIFIED:20220407T165341Z
UID:9972-1650499200-1650585599@southtexacp.com
SUMMARY:PPR EC-12 (Part 2) from 5:00 p.m. - 8:00 p.m.
DESCRIPTION:Please contact our office for location and registration information.
URL:https://southtexacp.com/calendar/ppr-ec-12-part-2-from-500-p-m-800-p-m/
LOCATION:South Texas Transition To Teaching ACP\, 2507 Buddy Owens\, McAllen\, TX\, 78504\, United States
CATEGORIES:South Texas ACP
END:VEVENT
BEGIN:VEVENT
DTSTART;VALUE=DATE:20220420
DTEND;VALUE=DATE:20220421
DTSTAMP:20260424T090734
CREATED:20220407T165244Z
LAST-MODIFIED:20220407T165244Z
UID:9970-1650412800-1650499199@southtexacp.com
SUMMARY:PPR EC-12 (Part 1) from 5:00 p.m. - 8:00 p.m.
DESCRIPTION:Please contact our office for location and registration information.
URL:https://southtexacp.com/calendar/ppr-ec-12-part-1-from-500-p-m-800-p-m/
LOCATION:South Texas Transition To Teaching ACP\, 2507 Buddy Owens\, McAllen\, TX\, 78504\, United States
CATEGORIES:South Texas ACP
END:VEVENT
BEGIN:VEVENT
DTSTART;VALUE=DATE:20220419
DTEND;VALUE=DATE:20220420
DTSTAMP:20260424T090734
CREATED:20220407T162117Z
LAST-MODIFIED:20220407T162117Z
UID:9968-1650326400-1650412799@southtexacp.com
SUMMARY:Social Studies 4-8 (Part 2) from 5:00 p.m. - 8:00 p.m.
DESCRIPTION:Please contact our office for location and registration information.
URL:https://southtexacp.com/calendar/social-studies-4-8-part-2-from-500-p-m-800-p-m-2/
LOCATION:South Texas Transition To Teaching ACP\, 2507 Buddy Owens\, McAllen\, TX\, 78504\, United States
CATEGORIES:South Texas ACP
END:VEVENT
BEGIN:VEVENT
DTSTART;VALUE=DATE:20220418
DTEND;VALUE=DATE:20220419
DTSTAMP:20260424T090734
CREATED:20220407T162010Z
LAST-MODIFIED:20220407T162010Z
UID:9966-1650240000-1650326399@southtexacp.com
SUMMARY:Social Studies 4-8 (Part 1) from 5:00 p.m. - 8:00 p.m.
DESCRIPTION:Please contact our office for location and registration information
URL:https://southtexacp.com/calendar/social-studies-4-8-part-1-from-500-p-m-800-p-m-2/
LOCATION:South Texas Transition To Teaching ACP\, 2507 Buddy Owens\, McAllen\, TX\, 78504\, United States
CATEGORIES:South Texas ACP
END:VEVENT
BEGIN:VEVENT
DTSTART;VALUE=DATE:20220413
DTEND;VALUE=DATE:20220414
DTSTAMP:20260424T090734
CREATED:20220407T153054Z
LAST-MODIFIED:20220407T153054Z
UID:9964-1649808000-1649894399@southtexacp.com
SUMMARY:ELA-R 4-8 (Part 2) from 5:00 p.m. - 8:00 p.m.
DESCRIPTION:Please contact our office for location and registration information.
URL:https://southtexacp.com/calendar/ela-r-4-8-part-2-from-500-p-m-800-p-m/
LOCATION:South Texas Transition To Teaching ACP\, 2507 Buddy Owens\, McAllen\, TX\, 78504\, United States
CATEGORIES:South Texas ACP
END:VEVENT
BEGIN:VEVENT
DTSTART;VALUE=DATE:20220412
DTEND;VALUE=DATE:20220413
DTSTAMP:20260424T090734
CREATED:20220407T152935Z
LAST-MODIFIED:20220407T152935Z
UID:9962-1649721600-1649807999@southtexacp.com
SUMMARY:ELA-R 4-8 ( part 1) from 5:00 p.m. - 8:00 p.m.
DESCRIPTION:Please contact our office for location and registration information.
URL:https://southtexacp.com/calendar/ela-r-4-8-part-1-from-500-p-m-800-p-m/
LOCATION:South Texas Transition To Teaching ACP\, 2507 Buddy Owens\, McAllen\, TX\, 78504\, United States
CATEGORIES:South Texas ACP
END:VEVENT
BEGIN:VEVENT
DTSTART;VALUE=DATE:20220317
DTEND;VALUE=DATE:20220318
DTSTAMP:20260424T090734
CREATED:20220307T233102Z
LAST-MODIFIED:20220307T233102Z
UID:9765-1647475200-1647561599@southtexacp.com
SUMMARY:BTLPT Class Review from 5:30 p.m. - 8:30 p.m.
DESCRIPTION:Please contact our office for location and registration information
URL:https://southtexacp.com/calendar/btlpt-class-review-from-530-p-m-830-p-m/
LOCATION:South Texas Transition To Teaching ACP\, 2507 Buddy Owens\, McAllen\, TX\, 78504\, United States
CATEGORIES:South Texas ACP
END:VEVENT
BEGIN:VEVENT
DTSTART;VALUE=DATE:20220308
DTEND;VALUE=DATE:20220309
DTSTAMP:20260424T090734
CREATED:20220224T231307Z
LAST-MODIFIED:20220224T231307Z
UID:9698-1646697600-1646783999@southtexacp.com
SUMMARY:SPED (Day2) from 5:00 p.m. - 8:00 p.m.
DESCRIPTION:Please contact our office for location and registration information
URL:https://southtexacp.com/calendar/sped-day2-from-500-p-m-800-p-m/
LOCATION:South Texas Transition To Teaching ACP\, 2507 Buddy Owens\, McAllen\, TX\, 78504\, United States
CATEGORIES:South Texas ACP
END:VEVENT
BEGIN:VEVENT
DTSTART;VALUE=DATE:20220307
DTEND;VALUE=DATE:20220308
DTSTAMP:20260424T090734
CREATED:20220224T231217Z
LAST-MODIFIED:20220224T231217Z
UID:9696-1646611200-1646697599@southtexacp.com
SUMMARY:SPED (Day 1) from 5:00 p.m. - 8:00 p.m.
DESCRIPTION:Please contact our office for location and registration information.
URL:https://southtexacp.com/calendar/sped-day-1-from-500-p-m-800-p-m/
LOCATION:South Texas Transition To Teaching ACP\, 2507 Buddy Owens\, McAllen\, TX\, 78504\, United States
CATEGORIES:South Texas ACP
END:VEVENT
BEGIN:VEVENT
DTSTART;VALUE=DATE:20220228
DTEND;VALUE=DATE:20220301
DTSTAMP:20260424T090734
CREATED:20220203T180218Z
LAST-MODIFIED:20220203T180218Z
UID:9576-1646006400-1646092799@southtexacp.com
SUMMARY:BTLPT Review from 5:30 p.m. - 8:30 p.m\,
DESCRIPTION:Please contact our office for location and registration information.
URL:https://southtexacp.com/calendar/btlpt-review-from-530-p-m-830-p-m-6/
LOCATION:South Texas Transition To Teaching ACP\, 2507 Buddy Owens\, McAllen\, TX\, 78504\, United States
CATEGORIES:South Texas ACP
END:VEVENT
BEGIN:VEVENT
DTSTART;VALUE=DATE:20220211
DTEND;VALUE=DATE:20220212
DTSTAMP:20260424T090734
CREATED:20220203T180121Z
LAST-MODIFIED:20220203T180121Z
UID:9574-1644537600-1644623999@southtexacp.com
SUMMARY:Core Subject EC-6 (Math) from 6:15 p.m. - 8:15 p.m.
DESCRIPTION:Please contact our office for location and registration information.
URL:https://southtexacp.com/calendar/core-subject-ec-6-math-from-615-p-m-815-p-m/
LOCATION:South Texas Transition To Teaching ACP\, 2507 Buddy Owens\, McAllen\, TX\, 78504\, United States
CATEGORIES:South Texas ACP
END:VEVENT
BEGIN:VEVENT
DTSTART;VALUE=DATE:20220210
DTEND;VALUE=DATE:20220211
DTSTAMP:20260424T090734
CREATED:20220203T180041Z
LAST-MODIFIED:20220203T180041Z
UID:9572-1644451200-1644537599@southtexacp.com
SUMMARY:Core Subject EC-6 ( ELA part 2) from 5:00 p.m. - 7:00 p.m.
DESCRIPTION:Please contact our office for location and registration information.
URL:https://southtexacp.com/calendar/core-subject-ec-6-ela-part-2-from-500-p-m-700-p-m/
LOCATION:South Texas Transition To Teaching ACP\, 2507 Buddy Owens\, McAllen\, TX\, 78504\, United States
CATEGORIES:South Texas ACP
END:VEVENT
BEGIN:VEVENT
DTSTART;VALUE=DATE:20220209
DTEND;VALUE=DATE:20220210
DTSTAMP:20260424T090734
CREATED:20220203T175956Z
LAST-MODIFIED:20220203T175956Z
UID:9570-1644364800-1644451199@southtexacp.com
SUMMARY:Core Subject EC-6 ( ELA part 1) from 5:00 p.m. - 7:00 p.m.
DESCRIPTION:Please contact our office for location and registration information.
URL:https://southtexacp.com/calendar/core-subject-ec-6-ela-part-1-from-500-p-m-700-p-m/
LOCATION:South Texas Transition To Teaching ACP\, 2507 Buddy Owens\, McAllen\, TX\, 78504\, United States
CATEGORIES:South Texas ACP
END:VEVENT
BEGIN:VEVENT
DTSTART;VALUE=DATE:20220208
DTEND;VALUE=DATE:20220209
DTSTAMP:20260424T090734
CREATED:20220203T175906Z
LAST-MODIFIED:20220203T175906Z
UID:9568-1644278400-1644364799@southtexacp.com
SUMMARY:Core Subject EC -6 ( Science part 2) from 5:00 p.m. - 7:00 p.m.
DESCRIPTION:Please contact our office for location and registration information.
URL:https://southtexacp.com/calendar/core-subject-ec-6-science-part-2-from-500-p-m-700-p-m/
LOCATION:South Texas Transition To Teaching ACP\, 2507 Buddy Owens\, McAllen\, TX\, 78504\, United States
CATEGORIES:South Texas ACP
END:VEVENT
BEGIN:VEVENT
DTSTART;VALUE=DATE:20220207
DTEND;VALUE=DATE:20220208
DTSTAMP:20260424T090734
CREATED:20220203T175820Z
LAST-MODIFIED:20220203T175820Z
UID:9566-1644192000-1644278399@southtexacp.com
SUMMARY:Core Subject EC-6 (Science Part 1) from 5:00 p.m. - 7:00 p.m.
DESCRIPTION:Please contact our office for location and registration information.
URL:https://southtexacp.com/calendar/core-subject-ec-6-science-part-1-from-500-p-m-700-p-m/
LOCATION:South Texas Transition To Teaching ACP\, 2507 Buddy Owens\, McAllen\, TX\, 78504\, United States
CATEGORIES:South Texas ACP
END:VEVENT
BEGIN:VEVENT
DTSTART;VALUE=DATE:20220205
DTEND;VALUE=DATE:20220206
DTSTAMP:20260424T090734
CREATED:20220203T175738Z
LAST-MODIFIED:20220203T175738Z
UID:9564-1644019200-1644105599@southtexacp.com
SUMMARY:Core Subject EC-6 (SS) from 9:00 a.m. - 1:00 p.m.
DESCRIPTION:Please contact our office for location and registration information.
URL:https://southtexacp.com/calendar/core-subject-ec-6-ss-from-900-a-m-100-p-m/
LOCATION:South Texas Transition To Teaching ACP\, 2507 Buddy Owens\, McAllen\, TX\, 78504\, United States
CATEGORIES:South Texas ACP
END:VEVENT
BEGIN:VEVENT
DTSTART;VALUE=DATE:20220131
DTEND;VALUE=DATE:20220201
DTSTAMP:20260424T090734
CREATED:20220118T215227Z
LAST-MODIFIED:20220118T215227Z
UID:9487-1643587200-1643673599@southtexacp.com
SUMMARY:Social Studies 4-8 from 5:00 p.m. - 9:00 p.m.
DESCRIPTION:Please contact our office for location and registration information
URL:https://southtexacp.com/calendar/social-studies-4-8-from-500-p-m-900-p-m-5/
LOCATION:South Texas Transition To Teaching ACP\, 2507 Buddy Owens\, McAllen\, TX\, 78504\, United States
CATEGORIES:South Texas ACP
END:VEVENT
BEGIN:VEVENT
DTSTART;VALUE=DATE:20220124
DTEND;VALUE=DATE:20220125
DTSTAMP:20260424T090734
CREATED:20220118T215131Z
LAST-MODIFIED:20220118T215131Z
UID:9485-1642982400-1643068799@southtexacp.com
SUMMARY:ELA-R 4-8 from 5:00 p.m. - 9:00 p.m.
DESCRIPTION:Please contact our office for location and registration information.
URL:https://southtexacp.com/calendar/ela-r-4-8-from-500-p-m-900-p-m-5/
LOCATION:South Texas Transition To Teaching ACP\, 2507 Buddy Owens\, McAllen\, TX\, 78504\, United States
CATEGORIES:South Texas ACP
END:VEVENT
BEGIN:VEVENT
DTSTART;VALUE=DATE:20220124
DTEND;VALUE=DATE:20220125
DTSTAMP:20260424T090734
CREATED:20220111T234133Z
LAST-MODIFIED:20220111T234133Z
UID:9460-1642982400-1643068799@southtexacp.com
SUMMARY:BTLPT Review from 5:30 p.m. - 8:30 p.m.
DESCRIPTION:Please contact our office for location and registration information.
URL:https://southtexacp.com/calendar/btlpt-review-from-530-p-m-830-p-m-5/
LOCATION:TX
CATEGORIES:South Texas ACP
END:VEVENT
BEGIN:VEVENT
DTSTART;VALUE=DATE:20220119
DTEND;VALUE=DATE:20220120
DTSTAMP:20260424T090734
CREATED:20211227T174157Z
LAST-MODIFIED:20211227T174157Z
UID:9372-1642550400-1642636799@southtexacp.com
SUMMARY:Special ED EC-12 (ELA) from 5:00 p.m. - 8:30 p.m.
DESCRIPTION:Please contact our office for location and registration information.
URL:https://southtexacp.com/calendar/special-ed-ec-12-ela-from-500-p-m-830-p-m/
LOCATION:South Texas Transition To Teaching ACP\, 2507 Buddy Owens\, McAllen\, TX\, 78504\, United States
CATEGORIES:South Texas ACP
END:VEVENT
BEGIN:VEVENT
DTSTART;VALUE=DATE:20220118
DTEND;VALUE=DATE:20220119
DTSTAMP:20260424T090734
CREATED:20211227T174024Z
LAST-MODIFIED:20211227T174024Z
UID:9370-1642464000-1642550399@southtexacp.com
SUMMARY:Special ED EC-12 (Content) from 5:00 p.m. - 8:30 p.m.
DESCRIPTION:Please contact our office for location and registration information.
URL:https://southtexacp.com/calendar/special-ed-ec-12-content-from-500-p-m-830-p-m-2/
LOCATION:South Texas Transition To Teaching ACP\, 2507 Buddy Owens\, McAllen\, TX\, 78504\, United States
CATEGORIES:South Texas ACP
END:VEVENT
BEGIN:VEVENT
DTSTART;VALUE=DATE:20220104
DTEND;VALUE=DATE:20220105
DTSTAMP:20260424T090734
CREATED:20211221T185932Z
LAST-MODIFIED:20211221T185932Z
UID:9354-1641254400-1641340799@southtexacp.com
SUMMARY:BTLPT Review from 5:30 p.m. - 8:30 p.m.
DESCRIPTION:Please contact our office for location and registration information.
URL:https://southtexacp.com/calendar/btlpt-review-from-530-p-m-830-p-m-4/
LOCATION:South Texas Transition To Teaching ACP\, 2507 Buddy Owens\, McAllen\, TX\, 78504\, United States
CATEGORIES:South Texas ACP
END:VEVENT
END:VCALENDAR