BEGIN:VCALENDAR
VERSION:2.0
PRODID:-//South Texas Transition to Teaching - ECPv6.2.9//NONSGML v1.0//EN
CALSCALE:GREGORIAN
METHOD:PUBLISH
X-WR-CALNAME:South Texas Transition to Teaching
X-ORIGINAL-URL:https://southtexacp.com
X-WR-CALDESC:Events for South Texas Transition to Teaching
REFRESH-INTERVAL;VALUE=DURATION:PT1H
X-Robots-Tag:noindex
X-PUBLISHED-TTL:PT1H
BEGIN:VTIMEZONE
TZID:UTC
BEGIN:STANDARD
TZOFFSETFROM:+0000
TZOFFSETTO:+0000
TZNAME:UTC
DTSTART:20230101T000000
END:STANDARD
END:VTIMEZONE
BEGIN:VEVENT
DTSTART;VALUE=DATE:20240525
DTEND;VALUE=DATE:20240526
DTSTAMP:20260423T180027
CREATED:20240516T203014Z
LAST-MODIFIED:20240516T203014Z
UID:12786-1716595200-1716681599@southtexacp.com
SUMMARY:SPED EC-12 from 9:00 a.m. - 2:00 p.m. CST
DESCRIPTION:Please contact us for location and registration information.
URL:https://southtexacp.com/calendar/sped-ec-12-from-900-a-m-200-p-m-cst/
LOCATION:South Texas Transition To Teaching ACP\, 2507 Buddy Owens\, McAllen\, TX\, 78504\, United States
CATEGORIES:South Texas ACP
END:VEVENT
BEGIN:VEVENT
DTSTART;VALUE=DATE:20240521
DTEND;VALUE=DATE:20240522
DTSTAMP:20260423T180027
CREATED:20240508T193158Z
LAST-MODIFIED:20240508T193158Z
UID:12770-1716249600-1716335999@southtexacp.com
SUMMARY:Bilingual Supplemental from 5:30 - 8:30 p.m CST.
DESCRIPTION:Please contact our office for location and registration information.
URL:https://southtexacp.com/calendar/bilingual-supplemental-from-530-830-p-m-cst-3/
LOCATION:South Texas Transition To Teaching ACP\, 2507 Buddy Owens\, McAllen\, TX\, 78504\, United States
CATEGORIES:South Texas ACP
END:VEVENT
BEGIN:VEVENT
DTSTART;VALUE=DATE:20240518
DTEND;VALUE=DATE:20240519
DTSTAMP:20260423T180027
CREATED:20240503T223027Z
LAST-MODIFIED:20240503T223027Z
UID:12760-1715990400-1716076799@southtexacp.com
SUMMARY:EC-6 ( Social Studies) from 9:00 a.m. - 3:00 p.m. CST
DESCRIPTION:Please contact our office for location and registration information
URL:https://southtexacp.com/calendar/ec-6-social-studies-from-900-a-m-300-p-m-cst-2/
LOCATION:South Texas Transition To Teaching ACP\, 2507 Buddy Owens\, McAllen\, TX\, 78504\, United States
CATEGORIES:South Texas ACP
END:VEVENT
BEGIN:VEVENT
DTSTART;VALUE=DATE:20240517
DTEND;VALUE=DATE:20240518
DTSTAMP:20260423T180027
CREATED:20240503T222918Z
LAST-MODIFIED:20240503T222918Z
UID:12758-1715904000-1715990399@southtexacp.com
SUMMARY:EC-6 (Math) from  6:00 - 9:00 p.m. CST
DESCRIPTION:Please contact our office for location and registration information
URL:https://southtexacp.com/calendar/ec-6-math-from-600-900-p-m-cst-3/
LOCATION:South Texas Transition To Teaching ACP\, 2507 Buddy Owens\, McAllen\, TX\, 78504\, United States
CATEGORIES:South Texas ACP
END:VEVENT
BEGIN:VEVENT
DTSTART;VALUE=DATE:20240516
DTEND;VALUE=DATE:20240517
DTSTAMP:20260423T180027
CREATED:20240503T222809Z
LAST-MODIFIED:20240503T222809Z
UID:12756-1715817600-1715903999@southtexacp.com
SUMMARY:EC-6 ( Science) from 5:30 - 9:00 p.m. CST
DESCRIPTION:Please contact our office for location and registration information
URL:https://southtexacp.com/calendar/ec-6-science-from-530-900-p-m-cst/
LOCATION:South Texas Transition To Teaching ACP\, 2507 Buddy Owens\, McAllen\, TX\, 78504\, United States
CATEGORIES:South Texas ACP
END:VEVENT
BEGIN:VEVENT
DTSTART;VALUE=DATE:20240515
DTEND;VALUE=DATE:20240516
DTSTAMP:20260423T180027
CREATED:20240503T222711Z
LAST-MODIFIED:20240503T222711Z
UID:12754-1715731200-1715817599@southtexacp.com
SUMMARY:EC-6 ( Electives) Virtual class from 5:30 - 9:00 p.m.CST.
DESCRIPTION:Please contact our office for location and registration information.
URL:https://southtexacp.com/calendar/ec-6-electives-virtual-class-from-530-900-p-m-cst/
LOCATION:South Texas Transition To Teaching ACP\, 2507 Buddy Owens\, McAllen\, TX\, 78504\, United States
CATEGORIES:South Texas ACP
END:VEVENT
BEGIN:VEVENT
DTSTART;VALUE=DATE:20240514
DTEND;VALUE=DATE:20240515
DTSTAMP:20260423T180027
CREATED:20240503T221316Z
LAST-MODIFIED:20240503T221316Z
UID:12752-1715644800-1715731199@southtexacp.com
SUMMARY:EC-6 ( ELA-R) from 5:30 - 9:00 p.m. CST.
DESCRIPTION:Please contact our office for location and registration information
URL:https://southtexacp.com/calendar/ec-6-ela-r-from-530-900-p-m-cst/
LOCATION:South Texas Transition To Teaching ACP\, 2507 Buddy Owens\, McAllen\, TX\, 78504\, United States
CATEGORIES:South Texas ACP
END:VEVENT
BEGIN:VEVENT
DTSTART;VALUE=DATE:20240511
DTEND;VALUE=DATE:20240512
DTSTAMP:20260423T180027
CREATED:20240502T211053Z
LAST-MODIFIED:20240502T211053Z
UID:12748-1715385600-1715471999@southtexacp.com
SUMMARY:PPR EC-12 Prep Class from 9:00 a.m. - 3:00 p.m. CST
DESCRIPTION:Please contact our office for location and registration information.
URL:https://southtexacp.com/calendar/ppr-ec-12-prep-class-from-900-a-m-300-p-m-cst/
LOCATION:South Texas Transition To Teaching ACP\, 2507 Buddy Owens\, McAllen\, TX\, 78504\, United States
CATEGORIES:South Texas ACP
END:VEVENT
BEGIN:VEVENT
DTSTART;VALUE=DATE:20240510
DTEND;VALUE=DATE:20240511
DTSTAMP:20260423T180027
CREATED:20240426T174307Z
LAST-MODIFIED:20240426T174307Z
UID:12743-1715299200-1715385599@southtexacp.com
SUMMARY:BTLPT
DESCRIPTION:Please contact our office for location and registration information.
URL:https://southtexacp.com/calendar/btlpt-2/
LOCATION:South Texas Transition To Teaching ACP\, 2507 Buddy Owens\, McAllen\, TX\, 78504\, United States
CATEGORIES:South Texas ACP
END:VEVENT
BEGIN:VEVENT
DTSTART;VALUE=DATE:20240506
DTEND;VALUE=DATE:20240507
DTSTAMP:20260423T180027
CREATED:20240424T193554Z
LAST-MODIFIED:20240424T193554Z
UID:12739-1714953600-1715039999@southtexacp.com
SUMMARY:STR Prep Class from 5:30 - 8:30 p.m. CST.
DESCRIPTION:Please contact our office for location and registration information.
URL:https://southtexacp.com/calendar/str-prep-class-from-530-830-p-m-cst-3/
LOCATION:South Texas Transition To Teaching ACP\, 2507 Buddy Owens\, McAllen\, TX\, 78504\, United States
CATEGORIES:South Texas ACP
END:VEVENT
BEGIN:VEVENT
DTSTART;VALUE=DATE:20240427
DTEND;VALUE=DATE:20240428
DTSTAMP:20260423T180027
CREATED:20240416T144212Z
LAST-MODIFIED:20240416T144238Z
UID:12725-1714176000-1714262399@southtexacp.com
SUMMARY:SPED Class from 9:00 a.m. - 2:00 p.m. CST
DESCRIPTION:Please contact our office for location and registration information.
URL:https://southtexacp.com/calendar/sped-class-from-900-a-m-200-p-m-cst/
LOCATION:South Texas Transition To Teaching ACP\, 2507 Buddy Owens\, McAllen\, TX\, 78504\, United States
CATEGORIES:South Texas ACP
END:VEVENT
BEGIN:VEVENT
DTSTART;TZID=UTC:20240413T090000
DTEND;TZID=UTC:20240413T140000
DTSTAMP:20260423T180027
CREATED:20240410T214421Z
LAST-MODIFIED:20240410T214421Z
UID:12716-1712998800-1713016800@southtexacp.com
SUMMARY:PPR EC-12 Preparation Class
DESCRIPTION:Please contact your assigned program specialist for registration information
URL:https://southtexacp.com/calendar/ppr-ec-12-preparation-class/
LOCATION:TX
CATEGORIES:South Texas ACP
END:VEVENT
BEGIN:VEVENT
DTSTART;VALUE=DATE:20240312
DTEND;VALUE=DATE:20240313
DTSTAMP:20260423T180027
CREATED:20240305T171736Z
LAST-MODIFIED:20240305T171736Z
UID:12696-1710201600-1710287999@southtexacp.com
SUMMARY:STR Prep Class from 5:30 - 8:30 p.m. CST.
DESCRIPTION:Please contact our office for location and registration information.
URL:https://southtexacp.com/calendar/str-prep-class-from-530-830-p-m-cst-2/
LOCATION:South Texas Transition To Teaching ACP\, 2507 Buddy Owens\, McAllen\, TX\, 78504\, United States
CATEGORIES:South Texas ACP
END:VEVENT
BEGIN:VEVENT
DTSTART;VALUE=DATE:20240309
DTEND;VALUE=DATE:20240310
DTSTAMP:20260423T180027
CREATED:20240226T224215Z
LAST-MODIFIED:20240226T224215Z
UID:12684-1709942400-1710028799@southtexacp.com
SUMMARY:SS 4-8 from 12:00 - 5:00 p.m. CST
DESCRIPTION:Please contact our office for location and registration information
URL:https://southtexacp.com/calendar/ss-4-8-from-1200-500-p-m-cst/
LOCATION:South Texas Transition To Teaching ACP\, 2507 Buddy Owens\, McAllen\, TX\, 78504\, United States
CATEGORIES:South Texas ACP
END:VEVENT
BEGIN:VEVENT
DTSTART;VALUE=DATE:20240306
DTEND;VALUE=DATE:20240307
DTSTAMP:20260423T180027
CREATED:20240226T223241Z
LAST-MODIFIED:20240304T160206Z
UID:12682-1709683200-1709769599@southtexacp.com
SUMMARY:ELA-R 4-8 Class from 5:00 - 9:00 p.m. CST.
DESCRIPTION:Please contact our office for location and registration information.
URL:https://southtexacp.com/calendar/ela-r-4-8-class-from-500-900-p-m-cst/
LOCATION:South Texas Transition To Teaching ACP\, 2507 Buddy Owens\, McAllen\, TX\, 78504\, United States
CATEGORIES:South Texas ACP
END:VEVENT
BEGIN:VEVENT
DTSTART;TZID=UTC:20240227T173000
DTEND;TZID=UTC:20240227T203000
DTSTAMP:20260423T180027
CREATED:20240216T182539Z
LAST-MODIFIED:20240216T182630Z
UID:12656-1709055000-1709065800@southtexacp.com
SUMMARY:PPR EC-12 (Part 2) 5:30pm-8:30pm
DESCRIPTION:Please contact your program specialist for registration information
URL:https://southtexacp.com/calendar/ppr-ec-12-part-2-530pm-830pm/
LOCATION:TX
CATEGORIES:South Texas ACP
END:VEVENT
BEGIN:VEVENT
DTSTART;TZID=UTC:20240224T090000
DTEND;TZID=UTC:20240224T130000
DTSTAMP:20260423T180027
CREATED:20240216T182449Z
LAST-MODIFIED:20240216T182649Z
UID:12654-1708765200-1708779600@southtexacp.com
SUMMARY:PPR EC-12 (Part 1) 9am - 1pm
DESCRIPTION:Please contact your assigned program specialist for registration.
URL:https://southtexacp.com/calendar/ppr-ec-12-part-1-9am-1pm/
LOCATION:TX
CATEGORIES:South Texas ACP
END:VEVENT
BEGIN:VEVENT
DTSTART;VALUE=DATE:20240222
DTEND;VALUE=DATE:20240223
DTSTAMP:20260423T180027
CREATED:20240216T201613Z
LAST-MODIFIED:20240216T201613Z
UID:12660-1708560000-1708646399@southtexacp.com
SUMMARY:ESL Supplemental from 5:30 - 8:30 p.m. CST
DESCRIPTION:Please contact our office for location and registration information
URL:https://southtexacp.com/calendar/esl-supplemental-from-530-830-p-m-cst-2/
LOCATION:South Texas Transition To Teaching ACP\, 2507 Buddy Owens\, McAllen\, TX\, 78504\, United States
CATEGORIES:South Texas ACP
END:VEVENT
BEGIN:VEVENT
DTSTART;VALUE=DATE:20240221
DTEND;VALUE=DATE:20240222
DTSTAMP:20260423T180027
CREATED:20240216T203434Z
LAST-MODIFIED:20240216T203434Z
UID:12664-1708473600-1708559999@southtexacp.com
SUMMARY:SPED EC-12 ( Content) from 5:30 - 8:30 p.m. CST
DESCRIPTION:Please contact our office for location and registration information
URL:https://southtexacp.com/calendar/sped-ec-12-content-from-530-830-p-m-cst/
LOCATION:South Texas Transition To Teaching ACP\, 2507 Buddy Owens\, McAllen\, TX\, 78504\, United States
CATEGORIES:South Texas ACP
END:VEVENT
BEGIN:VEVENT
DTSTART;VALUE=DATE:20240220
DTEND;VALUE=DATE:20240221
DTSTAMP:20260423T180027
CREATED:20240216T203340Z
LAST-MODIFIED:20240216T203340Z
UID:12662-1708387200-1708473599@southtexacp.com
SUMMARY:SPED ( ELA) from 5:30 - 8:30 p.m. CST
DESCRIPTION:Please contact our office for location and registration information
URL:https://southtexacp.com/calendar/sped-ela-from-530-830-p-m-cst/
LOCATION:South Texas Transition To Teaching ACP\, 2507 Buddy Owens\, McAllen\, TX\, 78504\, United States
CATEGORIES:South Texas ACP
END:VEVENT
BEGIN:VEVENT
DTSTART;VALUE=DATE:20240215
DTEND;VALUE=DATE:20240216
DTSTAMP:20260423T180027
CREATED:20240212T175220Z
LAST-MODIFIED:20240212T175220Z
UID:12645-1707955200-1708041599@southtexacp.com
SUMMARY:Bilingual Supplemental Class from 5:30 - 8:30 p.m. CST
DESCRIPTION:Please contact our office for location and registration information.
URL:https://southtexacp.com/calendar/bilingual-supplemental-class-from-530-830-p-m-cst/
LOCATION:South Texas Transition To Teaching ACP\, 2507 Buddy Owens\, McAllen\, TX\, 78504\, United States
CATEGORIES:South Texas ACP
END:VEVENT
BEGIN:VEVENT
DTSTART;VALUE=DATE:20240120
DTEND;VALUE=DATE:20240121
DTSTAMP:20260423T180027
CREATED:20240110T223233Z
LAST-MODIFIED:20240110T223233Z
UID:12567-1705708800-1705795199@southtexacp.com
SUMMARY:SPED EC-12  from 9:00 a.m. - 3:00 p.m. CST
DESCRIPTION:Please contact our office for location and registration information.
URL:https://southtexacp.com/calendar/sped-ec-12-from-900-a-m-300-p-m-cst/
LOCATION:South Texas Transition To Teaching ACP\, 2507 Buddy Owens\, McAllen\, TX\, 78504\, United States
CATEGORIES:South Texas ACP
END:VEVENT
BEGIN:VEVENT
DTSTART;VALUE=DATE:20240118
DTEND;VALUE=DATE:20240119
DTSTAMP:20260423T180027
CREATED:20231228T223353Z
LAST-MODIFIED:20231228T223353Z
UID:12504-1705536000-1705622399@southtexacp.com
SUMMARY:PPR (Day 2) from 5:00 - 8:30 p.m. CST
DESCRIPTION:Please contact our office for location and registration information.
URL:https://southtexacp.com/calendar/ppr-day-2-from-500-830-p-m-cst/
LOCATION:South Texas Transition To Teaching ACP\, 2507 Buddy Owens\, McAllen\, TX\, 78504\, United States
CATEGORIES:South Texas ACP
END:VEVENT
BEGIN:VEVENT
DTSTART;VALUE=DATE:20240117
DTEND;VALUE=DATE:20240118
DTSTAMP:20260423T180027
CREATED:20231228T223250Z
LAST-MODIFIED:20231228T223250Z
UID:12502-1705449600-1705535999@southtexacp.com
SUMMARY:PPR ( Day 1) from 5:00 - 8:30 p.m. CST
DESCRIPTION:Please contact our office for location and registration information
URL:https://southtexacp.com/calendar/ppr-day-1-from-500-830-p-m-cst/
LOCATION:South Texas Transition To Teaching ACP\, 2507 Buddy Owens\, McAllen\, TX\, 78504\, United States
CATEGORIES:South Texas ACP
END:VEVENT
BEGIN:VEVENT
DTSTART;VALUE=DATE:20240111
DTEND;VALUE=DATE:20240112
DTSTAMP:20260423T180027
CREATED:20240109T154304Z
LAST-MODIFIED:20240109T154304Z
UID:12560-1704931200-1705017599@southtexacp.com
SUMMARY:EC-6 ( Electives) from 5:30 - 7:00 p.m. CST
DESCRIPTION:Please contact our office for location and registration information.
URL:https://southtexacp.com/calendar/ec-6-electives-from-530-700-p-m-cst/
LOCATION:South Texas Transition To Teaching ACP\, 2507 Buddy Owens\, McAllen\, TX\, 78504\, United States
CATEGORIES:South Texas ACP
END:VEVENT
BEGIN:VEVENT
DTSTART;TZID=UTC:20240110T080000
DTEND;TZID=UTC:20240110T170000
DTSTAMP:20260423T180027
CREATED:20231228T205309Z
LAST-MODIFIED:20231228T205344Z
UID:12492-1704873600-1704906000@southtexacp.com
SUMMARY:EC-6 ( Math) from 6:00 - 9:00 p.m. CST
DESCRIPTION:Please contact our office for location and registration information
URL:https://southtexacp.com/calendar/ec-6-math-from-600-900-p-m-cst-2/
LOCATION:South Texas Transition To Teaching ACP\, 2507 Buddy Owens\, McAllen\, TX\, 78504\, United States
CATEGORIES:South Texas ACP
END:VEVENT
BEGIN:VEVENT
DTSTART;VALUE=DATE:20240109
DTEND;VALUE=DATE:20240110
DTSTAMP:20260423T180027
CREATED:20231228T205203Z
LAST-MODIFIED:20231228T205203Z
UID:12490-1704758400-1704844799@southtexacp.com
SUMMARY:EC-6 ( ELA) from 5:00 p.m. - 8:30 p.m. CST
DESCRIPTION:Please contact our office for location and registration information
URL:https://southtexacp.com/calendar/ec-6-ela-from-500-p-m-830-p-m-cst/
LOCATION:South Texas Transition To Teaching ACP\, 2507 Buddy Owens\, McAllen\, TX\, 78504\, United States
CATEGORIES:South Texas ACP
END:VEVENT
BEGIN:VEVENT
DTSTART;VALUE=DATE:20240108
DTEND;VALUE=DATE:20240109
DTSTAMP:20260423T180027
CREATED:20231228T205042Z
LAST-MODIFIED:20231228T205042Z
UID:12488-1704672000-1704758399@southtexacp.com
SUMMARY:EC-6 ( Science) from 5:00 - 8:30 p.m. CST.
DESCRIPTION:Please contact our office for location and registration information.
URL:https://southtexacp.com/calendar/ec-6-science-from-500-830-p-m-cst/
LOCATION:South Texas Transition To Teaching ACP\, 2507 Buddy Owens\, McAllen\, TX\, 78504\, United States
CATEGORIES:South Texas ACP
END:VEVENT
BEGIN:VEVENT
DTSTART;VALUE=DATE:20240106
DTEND;VALUE=DATE:20240107
DTSTAMP:20260423T180027
CREATED:20231228T204857Z
LAST-MODIFIED:20231228T204912Z
UID:12485-1704499200-1704585599@southtexacp.com
SUMMARY:EC-6 ( SS) from 9:00 a.m. - 2:00p.m. CST
DESCRIPTION:Please contact our office for location and registration information
URL:https://southtexacp.com/calendar/ec-6-ss-from-900-a-m-20000-p-m-cst/
LOCATION:South Texas Transition To Teaching ACP\, 2507 Buddy Owens\, McAllen\, TX\, 78504\, United States
CATEGORIES:South Texas ACP
END:VEVENT
BEGIN:VEVENT
DTSTART;VALUE=DATE:20231215
DTEND;VALUE=DATE:20231216
DTSTAMP:20260423T180027
CREATED:20231206T220906Z
LAST-MODIFIED:20231206T220906Z
UID:12376-1702598400-1702684799@southtexacp.com
SUMMARY:ESL Supplemental Class from 5:30 - 8:30 p.m. CST
DESCRIPTION:Please contact our office for location and registration information
URL:https://southtexacp.com/calendar/esl-supplemental-class-from-530-830-p-m-cst/
LOCATION:South Texas Transition To Teaching ACP\, 2507 Buddy Owens\, McAllen\, TX\, 78504\, United States
CATEGORIES:South Texas ACP
END:VEVENT
END:VCALENDAR