BEGIN:VCALENDAR
VERSION:2.0
PRODID:-//South Texas Transition to Teaching - ECPv6.2.9//NONSGML v1.0//EN
CALSCALE:GREGORIAN
METHOD:PUBLISH
X-WR-CALNAME:South Texas Transition to Teaching
X-ORIGINAL-URL:https://southtexacp.com
X-WR-CALDESC:Events for South Texas Transition to Teaching
REFRESH-INTERVAL;VALUE=DURATION:PT1H
X-Robots-Tag:noindex
X-PUBLISHED-TTL:PT1H
BEGIN:VTIMEZONE
TZID:UTC
BEGIN:STANDARD
TZOFFSETFROM:+0000
TZOFFSETTO:+0000
TZNAME:UTC
DTSTART:20230101T000000
END:STANDARD
END:VTIMEZONE
BEGIN:VEVENT
DTSTART;VALUE=DATE:20231121
DTEND;VALUE=DATE:20231122
DTSTAMP:20260423T224232
CREATED:20231109T174237Z
LAST-MODIFIED:20231109T174237Z
UID:12309-1700524800-1700611199@southtexacp.com
SUMMARY:STR Class from 5:30 - 8:30 p.m. CST
DESCRIPTION:Please contact our office for location and registration information
URL:https://southtexacp.com/calendar/str-class-from-530-830-p-m-cst/
LOCATION:South Texas Transition To Teaching ACP\, 2507 Buddy Owens\, McAllen\, TX\, 78504\, United States
CATEGORIES:South Texas ACP
END:VEVENT
BEGIN:VEVENT
DTSTART;VALUE=DATE:20231120
DTEND;VALUE=DATE:20231121
DTSTAMP:20260423T224232
CREATED:20231109T174132Z
LAST-MODIFIED:20231109T174132Z
UID:12307-1700438400-1700524799@southtexacp.com
SUMMARY:STR Class from 5:30 - 8:30 p.m.
DESCRIPTION:Please contact our office for location and registration information
URL:https://southtexacp.com/calendar/str-class-from-530-830-p-m/
LOCATION:South Texas Transition To Teaching ACP\, 2507 Buddy Owens\, McAllen\, TX\, 78504\, United States
CATEGORIES:South Texas ACP
END:VEVENT
BEGIN:VEVENT
DTSTART;VALUE=DATE:20231102
DTEND;VALUE=DATE:20231103
DTSTAMP:20260423T224232
CREATED:20231030T181703Z
LAST-MODIFIED:20231030T181703Z
UID:12264-1698883200-1698969599@southtexacp.com
SUMMARY:SPED Day 2 from 5:30 - 8:30 p.m. CST
DESCRIPTION:Please contact our office for location and registration information
URL:https://southtexacp.com/calendar/sped-day-2-from-530-830-p-m-cst-3/
LOCATION:South Texas Transition To Teaching ACP\, 2507 Buddy Owens\, McAllen\, TX\, 78504\, United States
CATEGORIES:South Texas ACP
END:VEVENT
BEGIN:VEVENT
DTSTART;VALUE=DATE:20231101
DTEND;VALUE=DATE:20231102
DTSTAMP:20260423T224232
CREATED:20231030T181515Z
LAST-MODIFIED:20231030T181515Z
UID:12262-1698796800-1698883199@southtexacp.com
SUMMARY:SPED Day 1 from 5:30 - 8:30 CST
DESCRIPTION:Please contact our office for location and registration information
URL:https://southtexacp.com/calendar/sped-day-1-from-530-830-cst/
LOCATION:South Texas Transition To Teaching ACP\, 2507 Buddy Owens\, McAllen\, TX\, 78504\, United States
CATEGORIES:South Texas ACP
END:VEVENT
BEGIN:VEVENT
DTSTART;VALUE=DATE:20230926
DTEND;VALUE=DATE:20230927
DTSTAMP:20260423T224232
CREATED:20230914T165825Z
LAST-MODIFIED:20230919T143528Z
UID:12011-1695686400-1695772799@southtexacp.com
SUMMARY:SPED ( Day 2) from 5:30 - 8:30 p.m. CST
DESCRIPTION:Please contact our office for location and registration information
URL:https://southtexacp.com/calendar/sped-day-2-from-530-830-p-m-cst-2/
LOCATION:South Texas Transition To Teaching ACP\, 2507 Buddy Owens\, McAllen\, TX\, 78504\, United States
CATEGORIES:South Texas ACP
END:VEVENT
BEGIN:VEVENT
DTSTART;VALUE=DATE:20230925
DTEND;VALUE=DATE:20230926
DTSTAMP:20260423T224232
CREATED:20230914T165637Z
LAST-MODIFIED:20230919T143506Z
UID:12009-1695600000-1695686399@southtexacp.com
SUMMARY:SPED ( Day 1) from 5:30 - 8:30 pm CST
DESCRIPTION:Please contact our office for location and registration information
URL:https://southtexacp.com/calendar/sped-day-1-from-530-830-pm-cst/
LOCATION:South Texas Transition To Teaching ACP\, 2507 Buddy Owens\, McAllen\, TX\, 78504\, United States
CATEGORIES:South Texas ACP
END:VEVENT
BEGIN:VEVENT
DTSTART;VALUE=DATE:20230918
DTEND;VALUE=DATE:20230919
DTSTAMP:20260423T224232
CREATED:20230913T145547Z
LAST-MODIFIED:20230913T145547Z
UID:12003-1694995200-1695081599@southtexacp.com
SUMMARY:STR Prep Class from 5:30 - 8:30 p.m. CST
DESCRIPTION:Please contact our office for location and registration information
URL:https://southtexacp.com/calendar/str-prep-class-from-530-830-p-m-cst/
LOCATION:South Texas Transition To Teaching ACP\, 2507 Buddy Owens\, McAllen\, TX\, 78504\, United States
CATEGORIES:South Texas ACP
END:VEVENT
BEGIN:VEVENT
DTSTART;VALUE=DATE:20230824
DTEND;VALUE=DATE:20230825
DTSTAMP:20260423T224232
CREATED:20230817T192955Z
LAST-MODIFIED:20230817T192955Z
UID:11925-1692835200-1692921599@southtexacp.com
SUMMARY:ESL Supplemental from 5:30 - 8:30 p.m. CST
DESCRIPTION:Please contact our office for location and registration information.
URL:https://southtexacp.com/calendar/esl-supplemental-from-530-830-p-m-cst/
LOCATION:South Texas Transition To Teaching ACP\, 2507 Buddy Owens\, McAllen\, TX\, 78504\, United States
CATEGORIES:South Texas ACP
END:VEVENT
BEGIN:VEVENT
DTSTART;VALUE=DATE:20230819
DTEND;VALUE=DATE:20230820
DTSTAMP:20260423T224232
CREATED:20230809T173557Z
LAST-MODIFIED:20230809T173557Z
UID:11915-1692403200-1692489599@southtexacp.com
SUMMARY:SS 4-8 from 9:00 a.m. - 3:00 p.m. CST
DESCRIPTION:Please contact our office for location and registration information.
URL:https://southtexacp.com/calendar/ss-4-8-from-900-a-m-300-p-m-cst/
LOCATION:South Texas Transition To Teaching ACP\, 2507 Buddy Owens\, McAllen\, TX\, 78504\, United States
CATEGORIES:South Texas ACP
END:VEVENT
BEGIN:VEVENT
DTSTART;VALUE=DATE:20230817
DTEND;VALUE=DATE:20230818
DTSTAMP:20260423T224232
CREATED:20230809T173441Z
LAST-MODIFIED:20230809T173441Z
UID:11913-1692230400-1692316799@southtexacp.com
SUMMARY:ELA-R 4-8 from 5:30 - 8:30 p.m. CST
DESCRIPTION:Please contact our office for location and registration information
URL:https://southtexacp.com/calendar/ela-r-4-8-from-530-830-p-m-cst/
LOCATION:South Texas Transition To Teaching ACP\, 2507 Buddy Owens\, McAllen\, TX\, 78504\, United States
CATEGORIES:South Texas ACP
END:VEVENT
BEGIN:VEVENT
DTSTART;VALUE=DATE:20230816
DTEND;VALUE=DATE:20230817
DTSTAMP:20260423T224232
CREATED:20230804T160309Z
LAST-MODIFIED:20230804T160309Z
UID:11892-1692144000-1692230399@southtexacp.com
SUMMARY:SPED (Day 2) from 5:30 - 8:30 p.m. CST
DESCRIPTION:Please contact our office for location and registration information.
URL:https://southtexacp.com/calendar/sped-day-2-from-530-830-p-m-cst/
LOCATION:South Texas Transition To Teaching ACP\, 2507 Buddy Owens\, McAllen\, TX\, 78504\, United States
CATEGORIES:South Texas ACP
END:VEVENT
BEGIN:VEVENT
DTSTART;VALUE=DATE:20230815
DTEND;VALUE=DATE:20230816
DTSTAMP:20260423T224232
CREATED:20230804T160200Z
LAST-MODIFIED:20230804T160200Z
UID:11890-1692057600-1692143999@southtexacp.com
SUMMARY:SPED ( Day 1) from 5:30 - 8:30 p.m. CST
DESCRIPTION:Please contact our officer for location and registration information.
URL:https://southtexacp.com/calendar/sped-day-1-from-530-830-p-m-cst/
LOCATION:South Texas Transition To Teaching ACP\, 2507 Buddy Owens\, McAllen\, TX\, 78504\, United States
CATEGORIES:South Texas ACP
END:VEVENT
BEGIN:VEVENT
DTSTART;VALUE=DATE:20230812
DTEND;VALUE=DATE:20230813
DTSTAMP:20260423T224232
CREATED:20230802T182207Z
LAST-MODIFIED:20230802T182207Z
UID:11872-1691798400-1691884799@southtexacp.com
SUMMARY:EC-6 (Social Studies) from 9:00 a.m. - 3:00 p.m. CST
DESCRIPTION:Please contact our office for location and registration information.
URL:https://southtexacp.com/calendar/ec-6-social-studies-from-900-a-m-300-p-m-cst/
LOCATION:South Texas Transition To Teaching ACP\, 2507 Buddy Owens\, McAllen\, TX\, 78504\, United States
CATEGORIES:South Texas ACP
END:VEVENT
BEGIN:VEVENT
DTSTART;VALUE=DATE:20230811
DTEND;VALUE=DATE:20230812
DTSTAMP:20260423T224232
CREATED:20230802T181958Z
LAST-MODIFIED:20230802T181958Z
UID:11870-1691712000-1691798399@southtexacp.com
SUMMARY:EC-6 (Math) from 6:00 -9:00 p.m. CST
DESCRIPTION:Please contact our office for location and registration information.
URL:https://southtexacp.com/calendar/ec-6-math-from-600-900-p-m-cst/
LOCATION:South Texas Transition To Teaching ACP\, 2507 Buddy Owens\, McAllen\, TX\, 78504\, United States
CATEGORIES:South Texas ACP
END:VEVENT
BEGIN:VEVENT
DTSTART;VALUE=DATE:20230810
DTEND;VALUE=DATE:20230811
DTSTAMP:20260423T224232
CREATED:20230802T181839Z
LAST-MODIFIED:20230802T181839Z
UID:11868-1691625600-1691711999@southtexacp.com
SUMMARY:EC-6 (Electives) from 5:30 - 8:30 p.m. CST
DESCRIPTION:Please contact our office for location and registration information.
URL:https://southtexacp.com/calendar/ec-6-electives-from-530-830-p-m-cst/
LOCATION:South Texas Transition To Teaching ACP\, 2507 Buddy Owens\, McAllen\, TX\, 78504\, United States
CATEGORIES:South Texas ACP
END:VEVENT
BEGIN:VEVENT
DTSTART;VALUE=DATE:20230809
DTEND;VALUE=DATE:20230810
DTSTAMP:20260423T224232
CREATED:20230802T181651Z
LAST-MODIFIED:20230802T181651Z
UID:11866-1691539200-1691625599@southtexacp.com
SUMMARY:EC-6 ( ELA-R) from 5:30 - 8:30 p.m. CST
DESCRIPTION:Please contact our office for location and registration information.
URL:https://southtexacp.com/calendar/ec-6-ela-r-from-530-830-p-m-cst/
LOCATION:South Texas Transition To Teaching ACP\, 2507 Buddy Owens\, McAllen\, TX\, 78504\, United States
CATEGORIES:South Texas ACP
END:VEVENT
BEGIN:VEVENT
DTSTART;VALUE=DATE:20230808
DTEND;VALUE=DATE:20230809
DTSTAMP:20260423T224232
CREATED:20230802T181538Z
LAST-MODIFIED:20230802T181538Z
UID:11864-1691452800-1691539199@southtexacp.com
SUMMARY:EC-6 Science ( Part 2) from 5:30 p.m. - 8:30 p.m. CST
DESCRIPTION:Please contact our office for location and registration information.
URL:https://southtexacp.com/calendar/ec-6-science-part-2-from-530-p-m-830-p-m-cst/
LOCATION:South Texas Transition To Teaching ACP\, 2507 Buddy Owens\, McAllen\, TX\, 78504\, United States
CATEGORIES:South Texas ACP
END:VEVENT
BEGIN:VEVENT
DTSTART;VALUE=DATE:20230807
DTEND;VALUE=DATE:20230808
DTSTAMP:20260423T224232
CREATED:20230802T181432Z
LAST-MODIFIED:20230802T181432Z
UID:11862-1691366400-1691452799@southtexacp.com
SUMMARY:Ec-6 Science ( part 1) from 5:30 - 8:30 p.m. CST
DESCRIPTION:Please contact our office for location and registration information.
URL:https://southtexacp.com/calendar/ec-6-science-part-1-from-530-830-p-m-cst/
LOCATION:South Texas Transition To Teaching ACP\, 2507 Buddy Owens\, McAllen\, TX\, 78504\, United States
CATEGORIES:South Texas ACP
END:VEVENT
BEGIN:VEVENT
DTSTART;VALUE=DATE:20230701
DTEND;VALUE=DATE:20230702
DTSTAMP:20260423T224232
CREATED:20230613T170712Z
LAST-MODIFIED:20230626T155954Z
UID:11781-1688169600-1688255999@southtexacp.com
SUMMARY:SPED Day 2 from 9AM - 12 PM CST
DESCRIPTION:Please contact our office for location and registration information.
URL:https://southtexacp.com/calendar/sped-day-2-from-5-8pm-cst/
LOCATION:South Texas Transition To Teaching ACP\, 2507 Buddy Owens\, McAllen\, TX\, 78504\, United States
CATEGORIES:South Texas ACP
END:VEVENT
BEGIN:VEVENT
DTSTART;VALUE=DATE:20230629
DTEND;VALUE=DATE:20230630
DTSTAMP:20260423T224232
CREATED:20230613T170616Z
LAST-MODIFIED:20230626T153219Z
UID:11779-1687996800-1688083199@southtexacp.com
SUMMARY:SPED Day 1 from 5 - 8:00 p.m. CST
DESCRIPTION:Please contact our office for location and registration information.
URL:https://southtexacp.com/calendar/sped-day-1-from-5-800-p-m-cst/
LOCATION:South Texas Transition To Teaching ACP\, 2507 Buddy Owens\, McAllen\, TX\, 78504\, United States
CATEGORIES:South Texas ACP
END:VEVENT
BEGIN:VEVENT
DTSTART;VALUE=DATE:20230627
DTEND;VALUE=DATE:20230628
DTSTAMP:20260423T224232
CREATED:20230622T220459Z
LAST-MODIFIED:20230622T220459Z
UID:11799-1687824000-1687910399@southtexacp.com
SUMMARY:STR Prep Class from 5:30 p.m. - 8:30 p.m.
DESCRIPTION:Please contact our office for location and registration information.
URL:https://southtexacp.com/calendar/str-prep-class-from-530-p-m-830-p-m/
LOCATION:South Texas Transition To Teaching ACP\, 2507 Buddy Owens\, McAllen\, TX\, 78504\, United States
CATEGORIES:South Texas ACP
END:VEVENT
BEGIN:VEVENT
DTSTART;VALUE=DATE:20230620
DTEND;VALUE=DATE:20230621
DTSTAMP:20260423T224232
CREATED:20230614T165434Z
LAST-MODIFIED:20230615T212026Z
UID:11783-1687219200-1687305599@southtexacp.com
SUMMARY:PPR Day 1 from 5-8:30 p.m. CST
DESCRIPTION:Please contact our office for location and registration information
URL:https://southtexacp.com/calendar/ppr-day-1-from-5-830-p-m-cst/
LOCATION:South Texas Transition To Teaching ACP\, 2507 Buddy Owens\, McAllen\, TX\, 78504\, United States
CATEGORIES:South Texas ACP
END:VEVENT
BEGIN:VEVENT
DTSTART;VALUE=DATE:20230619
DTEND;VALUE=DATE:20230620
DTSTAMP:20260423T224232
CREATED:20230614T165534Z
LAST-MODIFIED:20230615T211923Z
UID:11785-1687132800-1687219199@southtexacp.com
SUMMARY:PPR Day 2 from 5-8:30 p.m. CST
DESCRIPTION:Please contact our office for location and registration information
URL:https://southtexacp.com/calendar/ppr-day-2-from-5-830-p-m-cst/
LOCATION:South Texas Transition To Teaching ACP\, 2507 Buddy Owens\, McAllen\, TX\, 78504\, United States
CATEGORIES:South Texas ACP
END:VEVENT
BEGIN:VEVENT
DTSTART;VALUE=DATE:20230608
DTEND;VALUE=DATE:20230609
DTSTAMP:20260423T224232
CREATED:20230529T163819Z
LAST-MODIFIED:20230529T163846Z
UID:11755-1686182400-1686268799@southtexacp.com
SUMMARY:Bilingual Supplemental from 5:30 - 8:30 p.m. cst
DESCRIPTION:Please contact our office for location and registration information.
URL:https://southtexacp.com/calendar/bilingual-supplemental-from-530-830-p-m-cst-2/
LOCATION:South Texas Transition To Teaching ACP\, 2507 Buddy Owens\, McAllen\, TX\, 78504\, United States
CATEGORIES:South Texas ACP
END:VEVENT
BEGIN:VEVENT
DTSTART;VALUE=DATE:20230605
DTEND;VALUE=DATE:20230606
DTSTAMP:20260423T224232
CREATED:20230529T160817Z
LAST-MODIFIED:20230529T160817Z
UID:11753-1685923200-1686009599@southtexacp.com
SUMMARY:BTLPT from 5:30 - 8:30 p.m. CST
DESCRIPTION:Please contact our office for location and registration information.
URL:https://southtexacp.com/calendar/btlpt-from-530-830-p-m-cst/
LOCATION:South Texas Transition To Teaching ACP\, 2507 Buddy Owens\, McAllen\, TX\, 78504\, United States
CATEGORIES:South Texas ACP
END:VEVENT
BEGIN:VEVENT
DTSTART;VALUE=DATE:20230517
DTEND;VALUE=DATE:20230518
DTSTAMP:20260423T224232
CREATED:20230501T210306Z
LAST-MODIFIED:20230501T210306Z
UID:11644-1684281600-1684367999@southtexacp.com
SUMMARY:SPED ( ELA-r) from 5:00 - 8:30 p.m.
DESCRIPTION:Please contact our office for location and registration information.
URL:https://southtexacp.com/calendar/sped-ela-r-from-500-830-p-m/
LOCATION:South Texas Transition To Teaching ACP\, 2507 Buddy Owens\, McAllen\, TX\, 78504\, United States
CATEGORIES:South Texas ACP
END:VEVENT
BEGIN:VEVENT
DTSTART;VALUE=DATE:20230516
DTEND;VALUE=DATE:20230517
DTSTAMP:20260423T224232
CREATED:20230501T210204Z
LAST-MODIFIED:20230501T210204Z
UID:11642-1684195200-1684281599@southtexacp.com
SUMMARY:SPED (content) from 5:00 -8:30 p.m
DESCRIPTION:Please contact our office for location and registration information.
URL:https://southtexacp.com/calendar/sped-content-from-500-830-p-m/
LOCATION:South Texas Transition To Teaching ACP\, 2507 Buddy Owens\, McAllen\, TX\, 78504\, United States
CATEGORIES:South Texas ACP
END:VEVENT
BEGIN:VEVENT
DTSTART;TZID=UTC:20230419T170000
DTEND;TZID=UTC:20230419T203000
DTSTAMP:20260423T224232
CREATED:20230411T172927Z
LAST-MODIFIED:20230411T172927Z
UID:11573-1681923600-1681936200@southtexacp.com
SUMMARY:PPR EC-12 Prep Class Day 2
DESCRIPTION:A link will be provided to you if you registered and participated in Day 1 of the PPR class
URL:https://southtexacp.com/calendar/ppr-ec-12-prep-class-day-2/
LOCATION:TX
CATEGORIES:South Texas ACP
END:VEVENT
BEGIN:VEVENT
DTSTART;TZID=UTC:20230418T170000
DTEND;TZID=UTC:20230418T203000
DTSTAMP:20260423T224232
CREATED:20230411T172433Z
LAST-MODIFIED:20230411T172948Z
UID:11564-1681837200-1681849800@southtexacp.com
SUMMARY:PPR EC-12 Prep Class Day 1
DESCRIPTION:REGISTER HERE \n  \n  \n(if you are registering with your phone\, \nwhen you select the event\, scroll down to read \nthe information provided below the calendar.  \nYou will need to select the  \n“Find Out More” \n option on the bottom left so it can take you to  \nthe page where the link is visible) \n  \n*THIS CLASS IS OFFERED TO SOTEX STUDENTS ONLY* \nPLEASE CALL THE OFFICE AT (956) 631 – 4424 FOR ADDITIONAL INFORMATION
URL:https://southtexacp.com/calendar/ppr-ec-12-prep-class-3/
LOCATION:TX
CATEGORIES:South Texas ACP
END:VEVENT
BEGIN:VEVENT
DTSTART;VALUE=DATE:20230417
DTEND;VALUE=DATE:20230418
DTSTAMP:20260423T224232
CREATED:20230404T165852Z
LAST-MODIFIED:20230404T165852Z
UID:11543-1681689600-1681775999@southtexacp.com
SUMMARY:STR Class from 5:30 p.m. - 8:30 p.m. CST.
DESCRIPTION:Please contact our office for location and registration information.
URL:https://southtexacp.com/calendar/str-class-from-530-p-m-830-p-m-cst/
LOCATION:South Texas Transition To Teaching ACP\, 2507 Buddy Owens\, McAllen\, TX\, 78504\, United States
CATEGORIES:South Texas ACP
END:VEVENT
END:VCALENDAR