BEGIN:VCALENDAR
VERSION:2.0
PRODID:-//South Texas Transition to Teaching - ECPv6.2.9//NONSGML v1.0//EN
CALSCALE:GREGORIAN
METHOD:PUBLISH
X-WR-CALNAME:South Texas Transition to Teaching
X-ORIGINAL-URL:https://southtexacp.com
X-WR-CALDESC:Events for South Texas Transition to Teaching
REFRESH-INTERVAL;VALUE=DURATION:PT1H
X-Robots-Tag:noindex
X-PUBLISHED-TTL:PT1H
BEGIN:VTIMEZONE
TZID:UTC
BEGIN:STANDARD
TZOFFSETFROM:+0000
TZOFFSETTO:+0000
TZNAME:UTC
DTSTART:20220101T000000
END:STANDARD
END:VTIMEZONE
BEGIN:VEVENT
DTSTART;TZID=UTC:20230401T090000
DTEND;TZID=UTC:20230401T153000
DTSTAMP:20260424T025921
CREATED:20230327T155646Z
LAST-MODIFIED:20230327T160119Z
UID:11523-1680339600-1680363000@southtexacp.com
SUMMARY:PPR EC-12 Prep Class
DESCRIPTION:Select the link below to register for this class \n  \nREGISTER \n  \n*ONLY FOR CURRENTLY ENROLLED SOTEX STUDENTS* \n  \nREGISTRATION CLOSES ON MARCH 31ST 5PM
URL:https://southtexacp.com/calendar/ppr-ec-12-prep-class-2/
LOCATION:South Texas Transition To Teaching ACP\, 2507 Buddy Owens\, McAllen\, TX\, 78504\, United States
CATEGORIES:South Texas ACP
END:VEVENT
BEGIN:VEVENT
DTSTART;VALUE=DATE:20230321
DTEND;VALUE=DATE:20230322
DTSTAMP:20260424T025921
CREATED:20230314T130338Z
LAST-MODIFIED:20230314T130338Z
UID:11492-1679356800-1679443199@southtexacp.com
SUMMARY:Bilingual Supplemental from 5:30 - 8:30 p.m. cst.
DESCRIPTION:Please contact our office for location and registration information.
URL:https://southtexacp.com/calendar/bilingual-supplemental-from-530-830-p-m-cst/
LOCATION:South Texas Transition To Teaching ACP\, 2507 Buddy Owens\, McAllen\, TX\, 78504\, United States
CATEGORIES:South Texas ACP
END:VEVENT
BEGIN:VEVENT
DTSTART;VALUE=DATE:20230311
DTEND;VALUE=DATE:20230312
DTSTAMP:20260424T025921
CREATED:20230223T213649Z
LAST-MODIFIED:20230223T213649Z
UID:11417-1678492800-1678579199@southtexacp.com
SUMMARY:SPED EC-12 ( ELA) FROM 9:00 A.M. - 12:00 P.M. CST.
DESCRIPTION:Please contact our office for location and registration information.
URL:https://southtexacp.com/calendar/sped-ec-12-ela-from-900-a-m-1200-p-m-cst/
LOCATION:South Texas Transition To Teaching ACP\, 2507 Buddy Owens\, McAllen\, TX\, 78504\, United States
CATEGORIES:South Texas ACP
END:VEVENT
BEGIN:VEVENT
DTSTART;VALUE=DATE:20230309
DTEND;VALUE=DATE:20230310
DTSTAMP:20260424T025921
CREATED:20230223T213531Z
LAST-MODIFIED:20230223T213531Z
UID:11415-1678320000-1678406399@southtexacp.com
SUMMARY:SPED EC-12 (Content) from 5:00 - 8:30 p.m. cst.
DESCRIPTION:Please contact our office for location and registration information
URL:https://southtexacp.com/calendar/sped-ec-12-content-from-500-830-p-m-cst-2/
LOCATION:South Texas Transition To Teaching ACP\, 2507 Buddy Owens\, McAllen\, TX\, 78504\, United States
CATEGORIES:South Texas ACP
END:VEVENT
BEGIN:VEVENT
DTSTART;VALUE=DATE:20230228
DTEND;VALUE=DATE:20230301
DTSTAMP:20260424T025921
CREATED:20230222T142837Z
LAST-MODIFIED:20230222T142837Z
UID:11404-1677542400-1677628799@southtexacp.com
SUMMARY:BTLPT review from 5:30 p.m. - 8:30 p.m\, cst.
DESCRIPTION:Please contact our office for location and registration information
URL:https://southtexacp.com/calendar/btlpt-review-from-530-p-m-830-p-m-cst/
LOCATION:South Texas Transition To Teaching ACP\, 2507 Buddy Owens\, McAllen\, TX\, 78504\, United States
CATEGORIES:South Texas ACP
END:VEVENT
BEGIN:VEVENT
DTSTART;VALUE=DATE:20230124
DTEND;VALUE=DATE:20230125
DTSTAMP:20260424T025921
CREATED:20230125T221430Z
LAST-MODIFIED:20230125T221430Z
UID:11360-1674518400-1674604799@southtexacp.com
SUMMARY:BTLPT from 5:30 - 8:30
DESCRIPTION:Please contact our office for location and registration information.
URL:https://southtexacp.com/calendar/btlpt-from-530-830/
LOCATION:South Texas Transition To Teaching ACP\, 2507 Buddy Owens\, McAllen\, TX\, 78504\, United States
CATEGORIES:South Texas ACP
END:VEVENT
BEGIN:VEVENT
DTSTART;VALUE=DATE:20230118
DTEND;VALUE=DATE:20230119
DTSTAMP:20260424T025921
CREATED:20230110T175926Z
LAST-MODIFIED:20230110T175926Z
UID:11307-1674000000-1674086399@southtexacp.com
SUMMARY:SPED EC-12 ( ELA) from 5:00 - 8:30 p.m. cst.
DESCRIPTION:Please contact our office for location and registration information.
URL:https://southtexacp.com/calendar/sped-ec-12-ela-from-500-830-p-m-cst/
LOCATION:South Texas Transition To Teaching ACP\, 2507 Buddy Owens\, McAllen\, TX\, 78504\, United States
CATEGORIES:South Texas ACP
END:VEVENT
BEGIN:VEVENT
DTSTART;VALUE=DATE:20230117
DTEND;VALUE=DATE:20230118
DTSTAMP:20260424T025921
CREATED:20230110T175823Z
LAST-MODIFIED:20230110T175823Z
UID:11305-1673913600-1673999999@southtexacp.com
SUMMARY:SPED EC-12 (Content) from 5:00 - 8:30 p.m. cst.
DESCRIPTION:Please contact our office for location and registration information.
URL:https://southtexacp.com/calendar/sped-ec-12-content-from-500-830-p-m-cst/
LOCATION:South Texas Transition To Teaching ACP\, 2507 Buddy Owens\, McAllen\, TX\, 78504\, United States
CATEGORIES:South Texas ACP
END:VEVENT
BEGIN:VEVENT
DTSTART;VALUE=DATE:20230114
DTEND;VALUE=DATE:20230115
DTSTAMP:20260424T025921
CREATED:20230105T210106Z
LAST-MODIFIED:20230106T175344Z
UID:11283-1673654400-1673740799@southtexacp.com
SUMMARY:Social Studies 4-8 Prep Class
DESCRIPTION:For SoTex Students ONLY \nRegister for this class using this LINK \n*Registration opens January 6th 9am and closes on Friday\, January 13th 9am
URL:https://southtexacp.com/calendar/social-studies-4-8-prep-class/
LOCATION:TX
CATEGORIES:South Texas ACP
END:VEVENT
BEGIN:VEVENT
DTSTART;VALUE=DATE:20230112
DTEND;VALUE=DATE:20230113
DTSTAMP:20260424T025921
CREATED:20230105T205909Z
LAST-MODIFIED:20230106T175416Z
UID:11282-1673481600-1673567999@southtexacp.com
SUMMARY:ELA-r 4-8 from 5:00 - 8:30
DESCRIPTION:Please contact our office for registration information
URL:https://southtexacp.com/calendar/ela-r-4-8-from-500-830/
LOCATION:South Texas Transition To Teaching ACP\, 2507 Buddy Owens\, McAllen\, TX\, 78504\, United States
CATEGORIES:South Texas ACP
END:VEVENT
BEGIN:VEVENT
DTSTART;TZID=UTC:20230110T173000
DTEND;TZID=UTC:20230110T203000
DTSTAMP:20260424T025921
CREATED:20230105T210716Z
LAST-MODIFIED:20230105T210716Z
UID:11293-1673371800-1673382600@southtexacp.com
SUMMARY:PPR Day Part 2
DESCRIPTION:
URL:https://southtexacp.com/calendar/ppr-day-part-2/
LOCATION:TX
CATEGORIES:South Texas ACP
END:VEVENT
BEGIN:VEVENT
DTSTART;TZID=UTC:20230109T173000
DTEND;TZID=UTC:20230109T203000
DTSTAMP:20260424T025921
CREATED:20230105T210415Z
LAST-MODIFIED:20230105T210528Z
UID:11288-1673285400-1673296200@southtexacp.com
SUMMARY:PPR EC-12 Prep Class Part 1
DESCRIPTION:For SoTex Students ONLY \nRegister for this class using this LINK \n*Registration opens January 4th 9am and closes on Monday\, January 9 4pm
URL:https://southtexacp.com/calendar/ppr-ec-12-prep-class/
LOCATION:TX
CATEGORIES:South Texas ACP
END:VEVENT
BEGIN:VEVENT
DTSTART;VALUE=DATE:20221214
DTEND;VALUE=DATE:20221215
DTSTAMP:20260424T025921
CREATED:20221202T193138Z
LAST-MODIFIED:20221202T193138Z
UID:11218-1670976000-1671062399@southtexacp.com
SUMMARY:EC-6 ( Science) from 5:00 - 8:30 p.m.
DESCRIPTION:Please contact our office for location and registration information
URL:https://southtexacp.com/calendar/ec-6-science-from-500-830-p-m/
LOCATION:South Texas Transition To Teaching ACP\, 2507 Buddy Owens\, McAllen\, TX\, 78504\, United States
CATEGORIES:South Texas ACP
END:VEVENT
BEGIN:VEVENT
DTSTART;VALUE=DATE:20221213
DTEND;VALUE=DATE:20221214
DTSTAMP:20260424T025921
CREATED:20221202T193043Z
LAST-MODIFIED:20221202T193043Z
UID:11216-1670889600-1670975999@southtexacp.com
SUMMARY:EC-6 ( Math) from 6:00 - 9:00 p.m.
DESCRIPTION:Please contact our office for location and registration information.
URL:https://southtexacp.com/calendar/ec-6-math-from-600-900-p-m/
LOCATION:South Texas Transition To Teaching ACP\, 2507 Buddy Owens\, McAllen\, TX\, 78504\, United States
CATEGORIES:South Texas ACP
END:VEVENT
BEGIN:VEVENT
DTSTART;VALUE=DATE:20221210
DTEND;VALUE=DATE:20221211
DTSTAMP:20260424T025921
CREATED:20221202T192948Z
LAST-MODIFIED:20221202T192948Z
UID:11214-1670630400-1670716799@southtexacp.com
SUMMARY:EC-6 ( Social Studies) from 8:30 a.m. - 12:30 p.m.
DESCRIPTION:Please contact our office for location and registration information
URL:https://southtexacp.com/calendar/ec-6-social-studies-from-830-a-m-1230-p-m-2/
LOCATION:South Texas Transition To Teaching ACP\, 2507 Buddy Owens\, McAllen\, TX\, 78504\, United States
CATEGORIES:South Texas ACP
END:VEVENT
BEGIN:VEVENT
DTSTART;VALUE=DATE:20221208
DTEND;VALUE=DATE:20221209
DTSTAMP:20260424T025921
CREATED:20221202T192846Z
LAST-MODIFIED:20221202T192846Z
UID:11212-1670457600-1670543999@southtexacp.com
SUMMARY:EC-6 ( ELA) from 5:00 - 8:30 p.m.
DESCRIPTION:Please contact our office for location and registration information
URL:https://southtexacp.com/calendar/ec-6-ela-from-500-830-p-m/
LOCATION:South Texas Transition To Teaching ACP\, 2507 Buddy Owens\, McAllen\, TX\, 78504\, United States
CATEGORIES:South Texas ACP
END:VEVENT
BEGIN:VEVENT
DTSTART;VALUE=DATE:20221112
DTEND;VALUE=DATE:20221113
DTSTAMP:20260424T025921
CREATED:20221104T220455Z
LAST-MODIFIED:20221104T220455Z
UID:11138-1668211200-1668297599@southtexacp.com
SUMMARY:Special ED EC-12 from 8:30 a.m. - 1:30 p.m.
DESCRIPTION:Please contact our office for location and registration information.
URL:https://southtexacp.com/calendar/special-ed-ec-12-from-830-a-m-130-p-m/
LOCATION:South Texas Transition To Teaching ACP\, 2507 Buddy Owens\, McAllen\, TX\, 78504\, United States
CATEGORIES:South Texas ACP
END:VEVENT
BEGIN:VEVENT
DTSTART;VALUE=DATE:20221027
DTEND;VALUE=DATE:20221028
DTSTAMP:20260424T025921
CREATED:20221018T165929Z
LAST-MODIFIED:20221018T165929Z
UID:11105-1666828800-1666915199@southtexacp.com
SUMMARY:ESL Supplemental Class from 5:30 p.m. - 8:30 p.m.
DESCRIPTION:Please contact our office for location and registration information.
URL:https://southtexacp.com/calendar/esl-supplemental-class-from-530-p-m-830-p-m-2/
LOCATION:South Texas Transition To Teaching ACP\, 2507 Buddy Owens\, McAllen\, TX\, 78504\, United States
CATEGORIES:South Texas ACP
END:VEVENT
BEGIN:VEVENT
DTSTART;VALUE=DATE:20220924
DTEND;VALUE=DATE:20220925
DTSTAMP:20260424T025921
CREATED:20220919T203135Z
LAST-MODIFIED:20220919T203135Z
UID:10923-1663977600-1664063999@southtexacp.com
SUMMARY:SPED EC-12 ( ELA) from 1:00 p.m. - 3:00 p.m.
DESCRIPTION:Please contact our office for location and registration information.
URL:https://southtexacp.com/calendar/sped-ec-12-ela-from-100-p-m-300-p-m/
LOCATION:South Texas Transition To Teaching ACP\, 2507 Buddy Owens\, McAllen\, TX\, 78504\, United States
CATEGORIES:South Texas ACP
END:VEVENT
BEGIN:VEVENT
DTSTART;VALUE=DATE:20220924
DTEND;VALUE=DATE:20220925
DTSTAMP:20260424T025921
CREATED:20220919T203042Z
LAST-MODIFIED:20220919T203042Z
UID:10921-1663977600-1664063999@southtexacp.com
SUMMARY:SPED EC-12 ( Content) from 9:00 a.m. - 12:00 p.m.
DESCRIPTION:Please contact our office for location and registration information.
URL:https://southtexacp.com/calendar/sped-ec-12-content-from-900-a-m-1200-p-m/
LOCATION:South Texas Transition To Teaching ACP\, 2507 Buddy Owens\, McAllen\, TX\, 78504\, United States
CATEGORIES:South Texas ACP
END:VEVENT
BEGIN:VEVENT
DTSTART;VALUE=DATE:20220914
DTEND;VALUE=DATE:20220915
DTSTAMP:20260424T025921
CREATED:20220907T153540Z
LAST-MODIFIED:20220907T153540Z
UID:10807-1663113600-1663199999@southtexacp.com
SUMMARY:Social Studies 4-8 from 5:00 p.m. - 8:30 p.m.
DESCRIPTION:Please contact our office for location and registration information.
URL:https://southtexacp.com/calendar/social-studies-4-8-from-500-p-m-830-p-m/
LOCATION:South Texas Transition To Teaching ACP\, 2507 Buddy Owens\, McAllen\, TX\, 78504\, United States
CATEGORIES:South Texas ACP
END:VEVENT
BEGIN:VEVENT
DTSTART;VALUE=DATE:20220914
DTEND;VALUE=DATE:20220915
DTSTAMP:20260424T025921
CREATED:20220902T225449Z
LAST-MODIFIED:20220902T225449Z
UID:10801-1663113600-1663199999@southtexacp.com
SUMMARY:Core Subject EC-6 ( Math) From 6:00 - 9:00 p.m
DESCRIPTION:Please contact our office for location and registration information
URL:https://southtexacp.com/calendar/core-subject-ec-6-math-from-600-900-p-m-2/
LOCATION:South Texas Transition To Teaching ACP\, 2507 Buddy Owens\, McAllen\, TX\, 78504\, United States
CATEGORIES:South Texas ACP
END:VEVENT
BEGIN:VEVENT
DTSTART;VALUE=DATE:20220913
DTEND;VALUE=DATE:20220914
DTSTAMP:20260424T025921
CREATED:20220902T225338Z
LAST-MODIFIED:20220902T225338Z
UID:10799-1663027200-1663113599@southtexacp.com
SUMMARY:Core Subject EC-6 ( Science) from 5:00 - 8:30 p.m.
DESCRIPTION:Please contact our office for location and registration information.
URL:https://southtexacp.com/calendar/core-subject-ec-6-science-from-500-830-p-m/
LOCATION:South Texas Transition To Teaching ACP\, 2507 Buddy Owens\, McAllen\, TX\, 78504\, United States
CATEGORIES:South Texas ACP
END:VEVENT
BEGIN:VEVENT
DTSTART;VALUE=DATE:20220912
DTEND;VALUE=DATE:20220913
DTSTAMP:20260424T025921
CREATED:20220902T225235Z
LAST-MODIFIED:20220902T225235Z
UID:10797-1662940800-1663027199@southtexacp.com
SUMMARY:Core Subject EC-6 ( ELA & Electives) from 5:00 - 8:30 p.m.
DESCRIPTION:Please contact our office for location and registration information.
URL:https://southtexacp.com/calendar/core-subject-ec-6-ela-electives-from-500-830-p-m/
LOCATION:South Texas Transition To Teaching ACP\, 2507 Buddy Owens\, McAllen\, TX\, 78504\, United States
CATEGORIES:South Texas ACP
END:VEVENT
BEGIN:VEVENT
DTSTART;VALUE=DATE:20220910
DTEND;VALUE=DATE:20220911
DTSTAMP:20260424T025921
CREATED:20220902T225114Z
LAST-MODIFIED:20220902T225114Z
UID:10795-1662768000-1662854399@southtexacp.com
SUMMARY:Core Subject EC-6 ( SS) from 8:30 a.m. - 12:30 p.m.
DESCRIPTION:Please contact our office for location and registration information.
URL:https://southtexacp.com/calendar/core-subject-ec-6-ss-from-830-a-m-1230-p-m-2/
LOCATION:South Texas Transition To Teaching ACP\, 2507 Buddy Owens\, McAllen\, TX\, 78504\, United States
CATEGORIES:South Texas ACP
END:VEVENT
BEGIN:VEVENT
DTSTART;VALUE=DATE:20220823
DTEND;VALUE=DATE:20220824
DTSTAMP:20260424T025921
CREATED:20220816T144442Z
LAST-MODIFIED:20220816T144442Z
UID:10689-1661212800-1661299199@southtexacp.com
SUMMARY:Bilingual Supplemental from 5:30 p.m. - 8:30 p.m.
DESCRIPTION:Please contact us for location and registration information.
URL:https://southtexacp.com/calendar/bilingual-supplemental-from-530-p-m-830-p-m-19/
LOCATION:South Texas Transition To Teaching ACP\, 2507 Buddy Owens\, McAllen\, TX\, 78504\, United States
CATEGORIES:South Texas ACP
END:VEVENT
BEGIN:VEVENT
DTSTART;VALUE=DATE:20220809
DTEND;VALUE=DATE:20220810
DTSTAMP:20260424T025921
CREATED:20220804T154105Z
LAST-MODIFIED:20220804T154105Z
UID:10647-1660003200-1660089599@southtexacp.com
SUMMARY:BTLPT Review from 5:30 p.m. - 8:30 p.m.
DESCRIPTION:Please contact our office for location and registration information. \n 
URL:https://southtexacp.com/calendar/btlpt-review-from-530-p-m-830-p-m-8/
LOCATION:South Texas Transition To Teaching ACP\, 2507 Buddy Owens\, McAllen\, TX\, 78504\, United States
CATEGORIES:South Texas ACP
END:VEVENT
BEGIN:VEVENT
DTSTART;VALUE=DATE:20220723
DTEND;VALUE=DATE:20220724
DTSTAMP:20260424T025921
CREATED:20220713T223059Z
LAST-MODIFIED:20220713T223059Z
UID:10574-1658534400-1658620799@southtexacp.com
SUMMARY:SOCIAL STUDIES 4-8 class from 8:30 a.m. - 12:30 p.m.
DESCRIPTION:Please contact us for location and registration information.
URL:https://southtexacp.com/calendar/social-studies-4-8-class-from-830-a-m-1230-p-m/
LOCATION:South Texas Transition To Teaching ACP\, 2507 Buddy Owens\, McAllen\, TX\, 78504\, United States
CATEGORIES:South Texas ACP
END:VEVENT
BEGIN:VEVENT
DTSTART;VALUE=DATE:20220721
DTEND;VALUE=DATE:20220722
DTSTAMP:20260424T025921
CREATED:20220713T222956Z
LAST-MODIFIED:20220713T222956Z
UID:10572-1658361600-1658447999@southtexacp.com
SUMMARY:ELA-R 4-8 class from 5:00 p.m. - 8:00 p.m.
DESCRIPTION:Please contact our office for location and registration information.
URL:https://southtexacp.com/calendar/ela-r-4-8-class-from-500-p-m-800-p-m/
LOCATION:South Texas Transition To Teaching ACP\, 2507 Buddy Owens\, McAllen\, TX\, 78504\, United States
CATEGORIES:South Texas ACP
END:VEVENT
BEGIN:VEVENT
DTSTART;VALUE=DATE:20220719
DTEND;VALUE=DATE:20220720
DTSTAMP:20260424T025921
CREATED:20220713T223344Z
LAST-MODIFIED:20220713T223344Z
UID:10578-1658188800-1658275199@southtexacp.com
SUMMARY:PPR EC-12 class (Part 2) from 5:00 p.m. - 8:00 p.m.
DESCRIPTION:Please contact our office for location and registration information
URL:https://southtexacp.com/calendar/ppr-ec-12-class-part-2-from-500-p-m-800-p-m/
LOCATION:South Texas Transition To Teaching ACP\, 2507 Buddy Owens\, McAllen\, TX\, 78504\, United States
CATEGORIES:South Texas ACP
END:VEVENT
END:VCALENDAR